View In:
ArcGIS JavaScript
ArcGIS Online Map Viewer
ArcGIS Earth
ArcMap
View Footprint In:
ArcGIS Online Map Viewer
Service Description: Imagery/woolbrook_2016_02_10cm_ecw
Name: Imagery/woolbrook_2016_02_10cm_ecw
Description:
Single Fused Map Cache: false
Extent:
XMin: 340203.00000000093
YMin: 6571202
XMax: 344112.00000000093
YMax: 6574813
Spatial Reference: 28356
(28356)
Initial Extent:
XMin: 340203.00000000093
YMin: 6571202
XMax: 344112.00000000093
YMax: 6574813
Spatial Reference: 28356
(28356)
Full Extent:
XMin: 340203.00000000093
YMin: 6571202
XMax: 344112.00000000093
YMax: 6574813
Spatial Reference: 28356
(28356)
Pixel Size X: 0.1
Pixel Size Y: 0.1
Band Count: 4
Pixel Type: U8
RasterFunction Infos: {"rasterFunctionInfos": [{
"name": "None",
"description": "",
"help": ""
}]}
Mensuration Capabilities: Basic
Has Histograms: true
Has Colormap: false
Has Multi Dimensions : false
Rendering Rule:
Min Scale: 0
Max Scale: 0
Copyright Text:
Service Data Type: esriImageServiceDataTypeGeneric
Min Values: 0, 0, 0, 255
Max Values: 255, 255, 255, 255
Mean Values: 153.71973419481, 148.74774213521, 114.54350723423, 255
Standard Deviation Values: 36.005179771308, 33.631827862548, 28.148749339512, 0
Object ID Field:
Fields:
None
Default Mosaic Method: Center
Allowed Mosaic Methods:
SortField:
SortValue: null
Mosaic Operator: First
Default Compression Quality: 75
Default Resampling Method: Bilinear
Max Record Count: null
Max Image Height: 4100
Max Image Width: 15000
Max Download Image Count: null
Max Mosaic Image Count: null
Allow Raster Function: true
Allow Compute TiePoints: false
Supports Statistics: false
Supports Advanced Queries: false
Use StandardizedQueries: true
Raster Type Infos:
Name: Raster Dataset
Description: Supports all ArcGIS Raster Datasets
Help:
Has Raster Attribute Table: false
Edit Fields Info: null
Ownership Based AccessControl For Rasters: null
Child Resources:
Info
Histograms
Key Properties
Legend
MultiDimensionalInfo
rasterFunctionInfos
Supported Operations:
Export Image
Identify
Measure
Compute Histograms
Compute Statistics Histograms
Get Samples
Compute Class Statistics
Query Boundary
Compute Pixel Location