{
 "currentVersion": 10.71,
 "serviceDescription": "Imagery/woolbrook_2016_02_10cm_ecw",
 "name": "Imagery/woolbrook_2016_02_10cm_ecw",
 "description": "",
 "extent": {
  "xmin": 340203.00000000093,
  "ymin": 6571202,
  "xmax": 344112.00000000093,
  "ymax": 6574813,
  "spatialReference": {
   "wkid": 28356,
   "latestWkid": 28356
  }
 },
 "initialExtent": {
  "xmin": 340203.00000000093,
  "ymin": 6571202,
  "xmax": 344112.00000000093,
  "ymax": 6574813,
  "spatialReference": {
   "wkid": 28356,
   "latestWkid": 28356
  }
 },
 "fullExtent": {
  "xmin": 340203.00000000093,
  "ymin": 6571202,
  "xmax": 344112.00000000093,
  "ymax": 6574813,
  "spatialReference": {
   "wkid": 28356,
   "latestWkid": 28356
  }
 },
 "pixelSizeX": 0.1,
 "pixelSizeY": 0.1,
 "bandCount": 4,
 "pixelType": "U8",
 "minPixelSize": 0,
 "maxPixelSize": 0,
 "copyrightText": "",
 "serviceDataType": "esriImageServiceDataTypeGeneric",
 "minValues": [
  0,
  0,
  0,
  255
 ],
 "maxValues": [
  255,
  255,
  255,
  255
 ],
 "meanValues": [
  153.71973419481,
  148.74774213521,
  114.54350723423,
  255
 ],
 "stdvValues": [
  36.005179771308,
  33.631827862548,
  28.148749339512,
  0
 ],
 "objectIdField": "",
 "fields": [],
 "capabilities": "Image,Metadata,Mensuration",
 "defaultMosaicMethod": "Center",
 "allowedMosaicMethods": "",
 "sortField": "",
 "sortValue": null,
 "mosaicOperator": "First",
 "defaultCompressionQuality": 75,
 "defaultResamplingMethod": "Bilinear",
 "maxImageHeight": 4100,
 "maxImageWidth": 15000,
 "allowRasterFunction": true,
 "rasterFunctionInfos": [
  {
   "name": "None",
   "description": "",
   "help": ""
  }
 ],
 "rasterTypeInfos": [
  {
   "name": "Raster Dataset",
   "description": "Supports all ArcGIS Raster Datasets",
   "help": ""
  }
 ],
 "mensurationCapabilities": "Basic",
 "hasHistograms": true,
 "hasColormap": false,
 "hasRasterAttributeTable": false,
 "minScale": 0,
 "maxScale": 0,
 "exportTilesAllowed": false,
 "hasMultidimensions": false,
 "supportsStatistics": false,
 "supportsAdvancedQueries": false,
 "editFieldsInfo": null,
 "ownershipBasedAccessControlForRasters": null,
 "allowComputeTiePoints": false,
 "useStandardizedQueries": true,
 "advancedQueryCapabilities": {
  "useStandardizedQueries": true,
  "supportsStatistics": false,
  "supportsOrderBy": false,
  "supportsDistinct": false,
  "supportsPagination": false
 },
 "spatialReference": {
  "wkid": 28356,
  "latestWkid": 28356
 }
}
