View In:
ArcGIS JavaScript
ArcGIS Online Map Viewer
ArcGIS Earth
ArcMap
View Footprint In:
ArcGIS Online Map Viewer
Service Description: Imagery/Tamworth_Sept2010_50cm
Name: Imagery/Tamworth_Sept2010_50cm
Description:
Single Fused Map Cache: false
Extent:
XMin: 260867.564479638
YMin: 6511138.838235294
XMax: 310444.064479638
YMax: 6569295.338235294
Spatial Reference: 28356
(28356)
Initial Extent:
XMin: 260867.564479638
YMin: 6511138.838235294
XMax: 310444.064479638
YMax: 6569295.338235294
Spatial Reference: 28356
(28356)
Full Extent:
XMin: 260867.564479638
YMin: 6511138.838235294
XMax: 310444.064479638
YMax: 6569295.338235294
Spatial Reference: 28356
(28356)
Pixel Size X: 0.5
Pixel Size Y: 0.5
Band Count: 3
Pixel Type: U8
RasterFunction Infos: {"rasterFunctionInfos": [{
"name": "None",
"description": "",
"help": ""
}]}
Mensuration Capabilities: Basic
Has Histograms: true
Has Colormap: false
Has Multi Dimensions : false
Rendering Rule:
Min Scale: 0
Max Scale: 0
Copyright Text:
Service Data Type: esriImageServiceDataTypeRGB
Min Values: 1, 1, 1
Max Values: 238, 225, 206
Mean Values: 128.24699005409, 131.62041884817, 107.93021024165
Standard Deviation Values: 25.765887675962, 21.992217566106, 18.909887808641
Object ID Field:
Fields:
None
Default Mosaic Method: Center
Allowed Mosaic Methods:
SortField:
SortValue: null
Mosaic Operator: First
Default Compression Quality: 75
Default Resampling Method: Bilinear
Max Record Count: null
Max Image Height: 4100
Max Image Width: 15000
Max Download Image Count: null
Max Mosaic Image Count: null
Allow Raster Function: true
Allow Compute TiePoints: false
Supports Statistics: false
Supports Advanced Queries: false
Use StandardizedQueries: true
Raster Type Infos:
Name: Raster Dataset
Description: Supports all ArcGIS Raster Datasets
Help:
Has Raster Attribute Table: false
Edit Fields Info: null
Ownership Based AccessControl For Rasters: null
Child Resources:
Info
Histograms
Key Properties
Legend
MultiDimensionalInfo
rasterFunctionInfos
Supported Operations:
Export Image
Identify
Measure
Compute Histograms
Compute Statistics Histograms
Get Samples
Compute Class Statistics
Query Boundary
Compute Pixel Location