{
 "currentVersion": 10.71,
 "serviceDescription": "Imagery/Tamworth_Sept2010_50cm",
 "name": "Imagery/Tamworth_Sept2010_50cm",
 "description": "",
 "extent": {
  "xmin": 260867.564479638,
  "ymin": 6511138.838235294,
  "xmax": 310444.064479638,
  "ymax": 6569295.338235294,
  "spatialReference": {
   "wkid": 28356,
   "latestWkid": 28356
  }
 },
 "initialExtent": {
  "xmin": 260867.564479638,
  "ymin": 6511138.838235294,
  "xmax": 310444.064479638,
  "ymax": 6569295.338235294,
  "spatialReference": {
   "wkid": 28356,
   "latestWkid": 28356
  }
 },
 "fullExtent": {
  "xmin": 260867.564479638,
  "ymin": 6511138.838235294,
  "xmax": 310444.064479638,
  "ymax": 6569295.338235294,
  "spatialReference": {
   "wkid": 28356,
   "latestWkid": 28356
  }
 },
 "pixelSizeX": 0.5,
 "pixelSizeY": 0.5,
 "bandCount": 3,
 "pixelType": "U8",
 "minPixelSize": 0,
 "maxPixelSize": 0,
 "copyrightText": "",
 "serviceDataType": "esriImageServiceDataTypeRGB",
 "minValues": [
  1,
  1,
  1
 ],
 "maxValues": [
  238,
  225,
  206
 ],
 "meanValues": [
  128.24699005409,
  131.62041884817,
  107.93021024165
 ],
 "stdvValues": [
  25.765887675962,
  21.992217566106,
  18.909887808641
 ],
 "objectIdField": "",
 "fields": [],
 "capabilities": "Mensuration,Image,Metadata",
 "defaultMosaicMethod": "Center",
 "allowedMosaicMethods": "",
 "sortField": "",
 "sortValue": null,
 "mosaicOperator": "First",
 "defaultCompressionQuality": 75,
 "defaultResamplingMethod": "Bilinear",
 "maxImageHeight": 4100,
 "maxImageWidth": 15000,
 "allowRasterFunction": true,
 "rasterFunctionInfos": [
  {
   "name": "None",
   "description": "",
   "help": ""
  }
 ],
 "rasterTypeInfos": [
  {
   "name": "Raster Dataset",
   "description": "Supports all ArcGIS Raster Datasets",
   "help": ""
  }
 ],
 "mensurationCapabilities": "Basic",
 "hasHistograms": true,
 "hasColormap": false,
 "hasRasterAttributeTable": false,
 "minScale": 0,
 "maxScale": 0,
 "exportTilesAllowed": false,
 "hasMultidimensions": false,
 "supportsStatistics": false,
 "supportsAdvancedQueries": false,
 "editFieldsInfo": null,
 "ownershipBasedAccessControlForRasters": null,
 "allowComputeTiePoints": false,
 "useStandardizedQueries": true,
 "advancedQueryCapabilities": {
  "useStandardizedQueries": true,
  "supportsStatistics": false,
  "supportsOrderBy": false,
  "supportsDistinct": false,
  "supportsPagination": false
 },
 "spatialReference": {
  "wkid": 28356,
  "latestWkid": 28356
 }
}
