View In:
ArcGIS JavaScript
ArcGIS Online Map Viewer
ArcGIS Earth
ArcMap
View Footprint In:
ArcGIS Online Map Viewer
Service Description: Imagery/Tamworth_East_Oct2011_10cm
Name: Imagery/Tamworth_East_Oct2011_10cm
Description:
Single Fused Map Cache: false
Extent:
XMin: 304683.22929419164
YMin: 6553790.833868387
XMax: 310719.9292941913
YMax: 6557081.633868387
Spatial Reference: 28356
(28356)
Initial Extent:
XMin: 304683.22929419164
YMin: 6553790.833868387
XMax: 310719.9292941913
YMax: 6557081.633868387
Spatial Reference: 28356
(28356)
Full Extent:
XMin: 304683.22929419164
YMin: 6553790.833868387
XMax: 310719.9292941913
YMax: 6557081.633868387
Spatial Reference: 28356
(28356)
Pixel Size X: 0.09999999999999441
Pixel Size Y: 0.09999999999999434
Band Count: 3
Pixel Type: U8
RasterFunction Infos: {"rasterFunctionInfos": [{
"name": "None",
"description": "",
"help": ""
}]}
Mensuration Capabilities: Basic
Has Histograms: true
Has Colormap: false
Has Multi Dimensions : false
Rendering Rule:
Min Scale: 0
Max Scale: 0
Copyright Text:
Service Data Type: esriImageServiceDataTypeRGB
Min Values: 34, 47, 63
Max Values: 207, 208, 192
Mean Values: 119.44583333333, 128.3796875, 113.8828125
Standard Deviation Values: 24.940286859476, 20.313978991733, 15.029251187333
Object ID Field:
Fields:
None
Default Mosaic Method: Center
Allowed Mosaic Methods:
SortField:
SortValue: null
Mosaic Operator: First
Default Compression Quality: 75
Default Resampling Method: Bilinear
Max Record Count: null
Max Image Height: 4100
Max Image Width: 15000
Max Download Image Count: null
Max Mosaic Image Count: null
Allow Raster Function: true
Allow Compute TiePoints: false
Supports Statistics: false
Supports Advanced Queries: false
Use StandardizedQueries: true
Raster Type Infos:
Name: Raster Dataset
Description: Supports all ArcGIS Raster Datasets
Help:
Has Raster Attribute Table: false
Edit Fields Info: null
Ownership Based AccessControl For Rasters: null
Child Resources:
Info
Histograms
Key Properties
Legend
MultiDimensionalInfo
rasterFunctionInfos
Supported Operations:
Export Image
Identify
Measure
Compute Histograms
Compute Statistics Histograms
Get Samples
Compute Class Statistics
Query Boundary
Compute Pixel Location