{
 "currentVersion": 10.71,
 "serviceDescription": "Imagery/Tamworth_East_Oct2011_10cm",
 "name": "Imagery/Tamworth_East_Oct2011_10cm",
 "description": "",
 "extent": {
  "xmin": 304683.22929419164,
  "ymin": 6553790.833868387,
  "xmax": 310719.9292941913,
  "ymax": 6557081.633868387,
  "spatialReference": {
   "wkid": 28356,
   "latestWkid": 28356
  }
 },
 "initialExtent": {
  "xmin": 304683.22929419164,
  "ymin": 6553790.833868387,
  "xmax": 310719.9292941913,
  "ymax": 6557081.633868387,
  "spatialReference": {
   "wkid": 28356,
   "latestWkid": 28356
  }
 },
 "fullExtent": {
  "xmin": 304683.22929419164,
  "ymin": 6553790.833868387,
  "xmax": 310719.9292941913,
  "ymax": 6557081.633868387,
  "spatialReference": {
   "wkid": 28356,
   "latestWkid": 28356
  }
 },
 "pixelSizeX": 0.09999999999999441,
 "pixelSizeY": 0.09999999999999434,
 "bandCount": 3,
 "pixelType": "U8",
 "minPixelSize": 0,
 "maxPixelSize": 0,
 "copyrightText": "",
 "serviceDataType": "esriImageServiceDataTypeRGB",
 "minValues": [
  34,
  47,
  63
 ],
 "maxValues": [
  207,
  208,
  192
 ],
 "meanValues": [
  119.44583333333,
  128.3796875,
  113.8828125
 ],
 "stdvValues": [
  24.940286859476,
  20.313978991733,
  15.029251187333
 ],
 "objectIdField": "",
 "fields": [],
 "capabilities": "Mensuration,Image,Metadata",
 "defaultMosaicMethod": "Center",
 "allowedMosaicMethods": "",
 "sortField": "",
 "sortValue": null,
 "mosaicOperator": "First",
 "defaultCompressionQuality": 75,
 "defaultResamplingMethod": "Bilinear",
 "maxImageHeight": 4100,
 "maxImageWidth": 15000,
 "allowRasterFunction": true,
 "rasterFunctionInfos": [
  {
   "name": "None",
   "description": "",
   "help": ""
  }
 ],
 "rasterTypeInfos": [
  {
   "name": "Raster Dataset",
   "description": "Supports all ArcGIS Raster Datasets",
   "help": ""
  }
 ],
 "mensurationCapabilities": "Basic",
 "hasHistograms": true,
 "hasColormap": false,
 "hasRasterAttributeTable": false,
 "minScale": 0,
 "maxScale": 0,
 "exportTilesAllowed": false,
 "hasMultidimensions": false,
 "supportsStatistics": false,
 "supportsAdvancedQueries": false,
 "editFieldsInfo": null,
 "ownershipBasedAccessControlForRasters": null,
 "allowComputeTiePoints": false,
 "useStandardizedQueries": true,
 "advancedQueryCapabilities": {
  "useStandardizedQueries": true,
  "supportsStatistics": false,
  "supportsOrderBy": false,
  "supportsDistinct": false,
  "supportsPagination": false
 },
 "spatialReference": {
  "wkid": 28356,
  "latestWkid": 28356
 }
}
