View In:
ArcGIS JavaScript
ArcGIS Online Map Viewer
ArcGIS Earth
ArcMap
View Footprint In:
ArcGIS Online Map Viewer
Service Description: Imagery/Somerton_13Aug2019_03cm
Name: Imagery/Somerton_13Aug2019_03cm
Description:
Single Fused Map Cache: false
Extent:
XMin: 274078.76937
YMin: 6574314.458030001
XMax: 275333.1252
YMax: 6575377.053200001
Spatial Reference: 32756
(32756)
Initial Extent:
XMin: 274078.76937
YMin: 6574314.458030001
XMax: 275333.1252
YMax: 6575377.053200001
Spatial Reference: 32756
(32756)
Full Extent:
XMin: 274078.76937
YMin: 6574314.458030001
XMax: 275333.1252
YMax: 6575377.053200001
Spatial Reference: 32756
(32756)
Pixel Size X: 0.02093000000000025
Pixel Size Y: 0.020929999999992843
Band Count: 4
Pixel Type: U8
RasterFunction Infos: {"rasterFunctionInfos": [{
"name": "None",
"description": "",
"help": ""
}]}
Mensuration Capabilities: Basic
Has Histograms: true
Has Colormap: false
Has Multi Dimensions : false
Rendering Rule:
Min Scale: 0
Max Scale: 0
Copyright Text:
Service Data Type: esriImageServiceDataTypeGeneric
Min Values: 0, 0, 0, 0
Max Values: 255, 255, 255, 255
Mean Values: 67.524982771325, 60.824601746814, 50.480832970564, 114.53938337271
Standard Deviation Values: 80.976503363227, 72.51899660973, 61.677312332321, 126.83955385417
Object ID Field:
Fields:
None
Default Mosaic Method: Center
Allowed Mosaic Methods:
SortField:
SortValue: null
Mosaic Operator: First
Default Compression Quality: 75
Default Resampling Method: Bilinear
Max Record Count: null
Max Image Height: 4100
Max Image Width: 15000
Max Download Image Count: null
Max Mosaic Image Count: null
Allow Raster Function: true
Allow Compute TiePoints: false
Supports Statistics: false
Supports Advanced Queries: false
Use StandardizedQueries: true
Raster Type Infos:
Name: Raster Dataset
Description: Supports all ArcGIS Raster Datasets
Help:
Has Raster Attribute Table: false
Edit Fields Info: null
Ownership Based AccessControl For Rasters: null
Child Resources:
Info
Histograms
Key Properties
Legend
MultiDimensionalInfo
rasterFunctionInfos
Supported Operations:
Export Image
Identify
Measure
Compute Histograms
Compute Statistics Histograms
Get Samples
Compute Class Statistics
Query Boundary
Compute Pixel Location