{
 "currentVersion": 10.71,
 "serviceDescription": "Imagery/Somerton_13Aug2019_03cm",
 "name": "Imagery/Somerton_13Aug2019_03cm",
 "description": "",
 "extent": {
  "xmin": 274078.76937,
  "ymin": 6574314.458030001,
  "xmax": 275333.1252,
  "ymax": 6575377.053200001,
  "spatialReference": {
   "wkid": 32756,
   "latestWkid": 32756
  }
 },
 "initialExtent": {
  "xmin": 274078.76937,
  "ymin": 6574314.458030001,
  "xmax": 275333.1252,
  "ymax": 6575377.053200001,
  "spatialReference": {
   "wkid": 32756,
   "latestWkid": 32756
  }
 },
 "fullExtent": {
  "xmin": 274078.76937,
  "ymin": 6574314.458030001,
  "xmax": 275333.1252,
  "ymax": 6575377.053200001,
  "spatialReference": {
   "wkid": 32756,
   "latestWkid": 32756
  }
 },
 "pixelSizeX": 0.02093000000000025,
 "pixelSizeY": 0.020929999999992843,
 "bandCount": 4,
 "pixelType": "U8",
 "minPixelSize": 0,
 "maxPixelSize": 0,
 "copyrightText": "",
 "serviceDataType": "esriImageServiceDataTypeGeneric",
 "minValues": [
  0,
  0,
  0,
  0
 ],
 "maxValues": [
  255,
  255,
  255,
  255
 ],
 "meanValues": [
  67.524982771325,
  60.824601746814,
  50.480832970564,
  114.53938337271
 ],
 "stdvValues": [
  80.976503363227,
  72.51899660973,
  61.677312332321,
  126.83955385417
 ],
 "objectIdField": "",
 "fields": [],
 "capabilities": "Mensuration,Image,Metadata",
 "defaultMosaicMethod": "Center",
 "allowedMosaicMethods": "",
 "sortField": "",
 "sortValue": null,
 "mosaicOperator": "First",
 "defaultCompressionQuality": 75,
 "defaultResamplingMethod": "Bilinear",
 "maxImageHeight": 4100,
 "maxImageWidth": 15000,
 "allowRasterFunction": true,
 "rasterFunctionInfos": [
  {
   "name": "None",
   "description": "",
   "help": ""
  }
 ],
 "rasterTypeInfos": [
  {
   "name": "Raster Dataset",
   "description": "Supports all ArcGIS Raster Datasets",
   "help": ""
  }
 ],
 "mensurationCapabilities": "Basic",
 "hasHistograms": true,
 "hasColormap": false,
 "hasRasterAttributeTable": false,
 "minScale": 0,
 "maxScale": 0,
 "exportTilesAllowed": false,
 "hasMultidimensions": false,
 "supportsStatistics": false,
 "supportsAdvancedQueries": false,
 "editFieldsInfo": null,
 "ownershipBasedAccessControlForRasters": null,
 "allowComputeTiePoints": false,
 "useStandardizedQueries": true,
 "advancedQueryCapabilities": {
  "useStandardizedQueries": true,
  "supportsStatistics": false,
  "supportsOrderBy": false,
  "supportsDistinct": false,
  "supportsPagination": false
 },
 "spatialReference": {
  "wkid": 32756,
  "latestWkid": 32756
 }
}
