View In:
ArcGIS JavaScript
ArcGIS Online Map Viewer
ArcGIS Earth
ArcMap
View Footprint In:
ArcGIS Online Map Viewer
Service Description: Imagery/Manilla_Oct2011_10cm
Name: Imagery/Manilla_Oct2011_10cm
Description:
Single Fused Map Cache: false
Extent:
XMin: 280355.5239130435
YMin: 6594092.929347826
XMax: 283653.82391304336
YMax: 6598065.729347826
Spatial Reference: 28356
(28356)
Initial Extent:
XMin: 280355.5239130435
YMin: 6594092.929347826
XMax: 283653.82391304336
YMax: 6598065.729347826
Spatial Reference: 28356
(28356)
Full Extent:
XMin: 280355.5239130435
YMin: 6594092.929347826
XMax: 283653.82391304336
YMax: 6598065.729347826
Spatial Reference: 28356
(28356)
Pixel Size X: 0.09999999999999612
Pixel Size Y: 0.09999999999999531
Band Count: 3
Pixel Type: U8
RasterFunction Infos: {"rasterFunctionInfos": [{
"name": "None",
"description": "",
"help": ""
}]}
Mensuration Capabilities: Basic
Has Histograms: true
Has Colormap: false
Has Multi Dimensions : false
Rendering Rule:
Min Scale: 0
Max Scale: 0
Copyright Text:
Service Data Type: esriImageServiceDataTypeRGB
Min Values: 6, 9, 5
Max Values: 168, 167, 156
Mean Values: 100.77644230769, 102.07932692308, 77.666666666667
Standard Deviation Values: 19.768764038222, 15.182481215987, 15.568492984351
Object ID Field:
Fields:
None
Default Mosaic Method: Center
Allowed Mosaic Methods:
SortField:
SortValue: null
Mosaic Operator: First
Default Compression Quality: 75
Default Resampling Method: Bilinear
Max Record Count: null
Max Image Height: 4100
Max Image Width: 15000
Max Download Image Count: null
Max Mosaic Image Count: null
Allow Raster Function: true
Allow Compute TiePoints: false
Supports Statistics: false
Supports Advanced Queries: false
Use StandardizedQueries: true
Raster Type Infos:
Name: Raster Dataset
Description: Supports all ArcGIS Raster Datasets
Help:
Has Raster Attribute Table: false
Edit Fields Info: null
Ownership Based AccessControl For Rasters: null
Child Resources:
Info
Histograms
Key Properties
Legend
MultiDimensionalInfo
rasterFunctionInfos
Supported Operations:
Export Image
Identify
Measure
Compute Histograms
Compute Statistics Histograms
Get Samples
Compute Class Statistics
Query Boundary
Compute Pixel Location