{
 "currentVersion": 10.71,
 "serviceDescription": "Imagery/Manilla_Oct2011_10cm",
 "name": "Imagery/Manilla_Oct2011_10cm",
 "description": "",
 "extent": {
  "xmin": 280355.5239130435,
  "ymin": 6594092.929347826,
  "xmax": 283653.82391304336,
  "ymax": 6598065.729347826,
  "spatialReference": {
   "wkid": 28356,
   "latestWkid": 28356
  }
 },
 "initialExtent": {
  "xmin": 280355.5239130435,
  "ymin": 6594092.929347826,
  "xmax": 283653.82391304336,
  "ymax": 6598065.729347826,
  "spatialReference": {
   "wkid": 28356,
   "latestWkid": 28356
  }
 },
 "fullExtent": {
  "xmin": 280355.5239130435,
  "ymin": 6594092.929347826,
  "xmax": 283653.82391304336,
  "ymax": 6598065.729347826,
  "spatialReference": {
   "wkid": 28356,
   "latestWkid": 28356
  }
 },
 "pixelSizeX": 0.09999999999999612,
 "pixelSizeY": 0.09999999999999531,
 "bandCount": 3,
 "pixelType": "U8",
 "minPixelSize": 0,
 "maxPixelSize": 0,
 "copyrightText": "",
 "serviceDataType": "esriImageServiceDataTypeRGB",
 "minValues": [
  6,
  9,
  5
 ],
 "maxValues": [
  168,
  167,
  156
 ],
 "meanValues": [
  100.77644230769,
  102.07932692308,
  77.666666666667
 ],
 "stdvValues": [
  19.768764038222,
  15.182481215987,
  15.568492984351
 ],
 "objectIdField": "",
 "fields": [],
 "capabilities": "Mensuration,Image,Metadata",
 "defaultMosaicMethod": "Center",
 "allowedMosaicMethods": "",
 "sortField": "",
 "sortValue": null,
 "mosaicOperator": "First",
 "defaultCompressionQuality": 75,
 "defaultResamplingMethod": "Bilinear",
 "maxImageHeight": 4100,
 "maxImageWidth": 15000,
 "allowRasterFunction": true,
 "rasterFunctionInfos": [
  {
   "name": "None",
   "description": "",
   "help": ""
  }
 ],
 "rasterTypeInfos": [
  {
   "name": "Raster Dataset",
   "description": "Supports all ArcGIS Raster Datasets",
   "help": ""
  }
 ],
 "mensurationCapabilities": "Basic",
 "hasHistograms": true,
 "hasColormap": false,
 "hasRasterAttributeTable": false,
 "minScale": 0,
 "maxScale": 0,
 "exportTilesAllowed": false,
 "hasMultidimensions": false,
 "supportsStatistics": false,
 "supportsAdvancedQueries": false,
 "editFieldsInfo": null,
 "ownershipBasedAccessControlForRasters": null,
 "allowComputeTiePoints": false,
 "useStandardizedQueries": true,
 "advancedQueryCapabilities": {
  "useStandardizedQueries": true,
  "supportsStatistics": false,
  "supportsOrderBy": false,
  "supportsDistinct": false,
  "supportsPagination": false
 },
 "spatialReference": {
  "wkid": 28356,
  "latestWkid": 28356
 }
}
