View In:
ArcGIS JavaScript
ArcGIS Online Map Viewer
ArcGIS Earth
ArcMap
View Footprint In:
ArcGIS Online Map Viewer
Service Description: Imagery/Manilla_5Mar2008_20cm
Name: Imagery/Manilla_5Mar2008_20cm
Description:
Single Fused Map Cache: false
Extent:
XMin: 279499.9999999999
YMin: 6593291.6777777765
XMax: 284499.99999999953
YMax: 6598465.277777776
Spatial Reference: 28356
(28356)
Initial Extent:
XMin: 279499.9999999999
YMin: 6593291.6777777765
XMax: 284499.99999999953
YMax: 6598465.277777776
Spatial Reference: 28356
(28356)
Full Extent:
XMin: 279499.9999999999
YMin: 6593291.6777777765
XMax: 284499.99999999953
YMax: 6598465.277777776
Spatial Reference: 28356
(28356)
Pixel Size X: 0.19999999999998602
Pixel Size Y: 0.1999999999999856
Band Count: 3
Pixel Type: U8
RasterFunction Infos: {"rasterFunctionInfos": [{
"name": "None",
"description": "",
"help": ""
}]}
Mensuration Capabilities: Basic
Has Histograms: true
Has Colormap: false
Has Multi Dimensions : false
Rendering Rule:
Min Scale: 0
Max Scale: 0
Copyright Text:
Service Data Type: esriImageServiceDataTypeRGB
Min Values: 37, 37, 49
Max Values: 227, 221, 223
Mean Values: 144.7232, 133.2016, 117.4064
Standard Deviation Values: 25.550763749938, 20.695309390517, 20.456206129944
Object ID Field:
Fields:
None
Default Mosaic Method: Center
Allowed Mosaic Methods:
SortField:
SortValue: null
Mosaic Operator: First
Default Compression Quality: 75
Default Resampling Method: Bilinear
Max Record Count: null
Max Image Height: 4100
Max Image Width: 15000
Max Download Image Count: null
Max Mosaic Image Count: null
Allow Raster Function: true
Allow Compute TiePoints: false
Supports Statistics: false
Supports Advanced Queries: false
Use StandardizedQueries: true
Raster Type Infos:
Name: Raster Dataset
Description: Supports all ArcGIS Raster Datasets
Help:
Has Raster Attribute Table: false
Edit Fields Info: null
Ownership Based AccessControl For Rasters: null
Child Resources:
Info
Histograms
Key Properties
Legend
MultiDimensionalInfo
rasterFunctionInfos
Supported Operations:
Export Image
Identify
Measure
Compute Histograms
Compute Statistics Histograms
Get Samples
Compute Class Statistics
Query Boundary
Compute Pixel Location