{
 "currentVersion": 10.71,
 "serviceDescription": "Imagery/Manilla_5Mar2008_20cm",
 "name": "Imagery/Manilla_5Mar2008_20cm",
 "description": "",
 "extent": {
  "xmin": 279499.9999999999,
  "ymin": 6593291.6777777765,
  "xmax": 284499.99999999953,
  "ymax": 6598465.277777776,
  "spatialReference": {
   "wkid": 28356,
   "latestWkid": 28356
  }
 },
 "initialExtent": {
  "xmin": 279499.9999999999,
  "ymin": 6593291.6777777765,
  "xmax": 284499.99999999953,
  "ymax": 6598465.277777776,
  "spatialReference": {
   "wkid": 28356,
   "latestWkid": 28356
  }
 },
 "fullExtent": {
  "xmin": 279499.9999999999,
  "ymin": 6593291.6777777765,
  "xmax": 284499.99999999953,
  "ymax": 6598465.277777776,
  "spatialReference": {
   "wkid": 28356,
   "latestWkid": 28356
  }
 },
 "pixelSizeX": 0.19999999999998602,
 "pixelSizeY": 0.1999999999999856,
 "bandCount": 3,
 "pixelType": "U8",
 "minPixelSize": 0,
 "maxPixelSize": 0,
 "copyrightText": "",
 "serviceDataType": "esriImageServiceDataTypeRGB",
 "minValues": [
  37,
  37,
  49
 ],
 "maxValues": [
  227,
  221,
  223
 ],
 "meanValues": [
  144.7232,
  133.2016,
  117.4064
 ],
 "stdvValues": [
  25.550763749938,
  20.695309390517,
  20.456206129944
 ],
 "objectIdField": "",
 "fields": [],
 "capabilities": "Mensuration,Image,Metadata",
 "defaultMosaicMethod": "Center",
 "allowedMosaicMethods": "",
 "sortField": "",
 "sortValue": null,
 "mosaicOperator": "First",
 "defaultCompressionQuality": 75,
 "defaultResamplingMethod": "Bilinear",
 "maxImageHeight": 4100,
 "maxImageWidth": 15000,
 "allowRasterFunction": true,
 "rasterFunctionInfos": [
  {
   "name": "None",
   "description": "",
   "help": ""
  }
 ],
 "rasterTypeInfos": [
  {
   "name": "Raster Dataset",
   "description": "Supports all ArcGIS Raster Datasets",
   "help": ""
  }
 ],
 "mensurationCapabilities": "Basic",
 "hasHistograms": true,
 "hasColormap": false,
 "hasRasterAttributeTable": false,
 "minScale": 0,
 "maxScale": 0,
 "exportTilesAllowed": false,
 "hasMultidimensions": false,
 "supportsStatistics": false,
 "supportsAdvancedQueries": false,
 "editFieldsInfo": null,
 "ownershipBasedAccessControlForRasters": null,
 "allowComputeTiePoints": false,
 "useStandardizedQueries": true,
 "advancedQueryCapabilities": {
  "useStandardizedQueries": true,
  "supportsStatistics": false,
  "supportsOrderBy": false,
  "supportsDistinct": false,
  "supportsPagination": false
 },
 "spatialReference": {
  "wkid": 28356,
  "latestWkid": 28356
 }
}
