View In:
ArcGIS JavaScript
ArcGIS Online Map Viewer
ArcGIS Earth
ArcMap
View Footprint In:
ArcGIS Online Map Viewer
Service Description: Imagery 2019
Name: Imagery/Imagery_2019
Description: Imagery 2019
Single Fused Map Cache: true
Tile Info:
- Height: 256
- Width: 256
- DPI: 96
-
Levels of Detail: 28
-
Level ID: 0
[ Start Tile, End Tile ]
- Resolution: 4233.341800016934
- Scale: 1.6000000000000002E7
-
Level ID: 1
[ Start Tile, End Tile ]
- Resolution: 2116.670900008467
- Scale: 8000000.000000001
-
Level ID: 2
[ Start Tile, End Tile ]
- Resolution: 1058.3354500042335
- Scale: 4000000.0000000005
-
Level ID: 3
[ Start Tile, End Tile ]
- Resolution: 529.1677250021168
- Scale: 2000000.0000000002
-
Level ID: 6
[ Start Tile, End Tile ]
- Resolution: 264.5838625010584
- Scale: 1000000.0000000001
-
Level ID: 11
[ Start Tile, End Tile ]
- Resolution: 132.2919312505292
- Scale: 500000.00000000006
-
Level ID: 12
[ Start Tile, End Tile ]
- Resolution: 66.1459656252646
- Scale: 250000.00000000003
-
Level ID: 13
[ Start Tile, End Tile ]
- Resolution: 33.0729828126323
- Scale: 125000.00000000001
- Format: PNG
- Compression Quality: 0.0
- LERC Error: NaN
- Origin: X: -5120900.0
Y: 1.99981E7
- Spatial Reference: 7856
(7856)
Extent:
XMin: 225207.19789999916
YMin: 6495691.612400001
XMax: 356179.69789999916
YMax: 6659202.112400001
Spatial Reference: 7856
(7856)
Initial Extent:
XMin: 225207.19789999916
YMin: 6495691.612400001
XMax: 356179.69789999916
YMax: 6659202.112400001
Spatial Reference: 7856
(7856)
Full Extent:
XMin: 225207.19789999916
YMin: 6495691.612400001
XMax: 356179.69789999916
YMax: 6659202.112400001
Spatial Reference: 7856
(7856)
Pixel Size X: 1.5
Pixel Size Y: 1.5
Band Count: 4
Pixel Type: U16
RasterFunction Infos: {"rasterFunctionInfos": [{
"name": "None",
"description": "",
"help": ""
}]}
Mensuration Capabilities: Basic
Has Histograms: true
Has Colormap: false
Has Multi Dimensions : false
Rendering Rule:
Min Scale: 1.6000000000000002E7
Max Scale: 500
Min LOD: 0
Max LOD: 21
Copyright Text:
Service Data Type: esriImageServiceDataTypeGeneric
Min Values: 0, 0, 0, 0
Max Values: 293, 257, 257, 257
Mean Values: 194.02068740289, 194.79022585432, 194.45283899814, 117.71448881587
Standard Deviation Values: 78.691216386884, 78.295933236676, 78.34491481156, 127.12229338755
Object ID Field:
Fields:
None
Default Mosaic Method: ByAttribute
Allowed Mosaic Methods: ByAttribute,
SortField: Name
SortValue: 0
Mosaic Operator: First
Default Compression Quality: 75
Default Resampling Method: Bilinear
Max Record Count: 1000
Max Image Height: 4100
Max Image Width: 15000
Max Download Image Count: 20
Max Mosaic Image Count: 20
Allow Raster Function: true
Allow Compute TiePoints: false
Supports Statistics: false
Supports Advanced Queries: false
Use StandardizedQueries: true
Raster Type Infos:
Name: Raster Dataset
Description: Supports all ArcGIS Raster Datasets
Help:
Has Raster Attribute Table: false
Edit Fields Info: null
Ownership Based AccessControl For Rasters: null
Child Resources:
Info
Histograms
Key Properties
Legend
MultiDimensionalInfo
rasterFunctionInfos
Supported Operations:
Export Image
Query
Identify
Measure
Compute Histograms
Compute Statistics Histograms
Get Samples
Compute Class Statistics
Query Boundary
Compute Pixel Location