{
 "currentVersion": 10.71,
 "serviceDescription": "Imagery 2019",
 "name": "Imagery/Imagery_2019",
 "description": "Imagery 2019",
 "extent": {
  "xmin": 225207.19789999916,
  "ymin": 6495691.612400001,
  "xmax": 356179.69789999916,
  "ymax": 6659202.112400001,
  "spatialReference": {
   "wkid": 7856,
   "latestWkid": 7856
  }
 },
 "initialExtent": {
  "xmin": 225207.19789999916,
  "ymin": 6495691.612400001,
  "xmax": 356179.69789999916,
  "ymax": 6659202.112400001,
  "spatialReference": {
   "wkid": 7856,
   "latestWkid": 7856
  }
 },
 "fullExtent": {
  "xmin": 225207.19789999916,
  "ymin": 6495691.612400001,
  "xmax": 356179.69789999916,
  "ymax": 6659202.112400001,
  "spatialReference": {
   "wkid": 7856,
   "latestWkid": 7856
  }
 },
 "pixelSizeX": 1.5,
 "pixelSizeY": 1.5,
 "bandCount": 4,
 "pixelType": "U16",
 "minPixelSize": 0.13229193125052918,
 "maxPixelSize": 4233.341800016934,
 "copyrightText": "",
 "serviceDataType": "esriImageServiceDataTypeGeneric",
 "minValues": [
  0,
  0,
  0,
  0
 ],
 "maxValues": [
  293,
  257,
  257,
  257
 ],
 "meanValues": [
  194.02068740289,
  194.79022585432,
  194.45283899814,
  117.71448881587
 ],
 "stdvValues": [
  78.691216386884,
  78.295933236676,
  78.34491481156,
  127.12229338755
 ],
 "objectIdField": "",
 "fields": [],
 "capabilities": "Catalog,Mensuration,Image,Metadata",
 "defaultMosaicMethod": "ByAttribute",
 "allowedMosaicMethods": "ByAttribute,",
 "sortField": "Name",
 "sortValue": "0",
 "mosaicOperator": "First",
 "maxDownloadSizeLimit": 2048,
 "defaultCompressionQuality": 75,
 "defaultResamplingMethod": "Bilinear",
 "maxImageHeight": 4100,
 "maxImageWidth": 15000,
 "maxRecordCount": 1000,
 "maxDownloadImageCount": 20,
 "maxMosaicImageCount": 20,
 "singleFusedMapCache": true,
 "tileInfo": {
  "rows": 256,
  "cols": 256,
  "dpi": 96,
  "format": "PNG",
  "compressionQuality": 0,
  "origin": {
   "x": -5120900,
   "y": 19998100
  },
  "spatialReference": {
   "wkid": 7856,
   "latestWkid": 7856
  },
  "lods": [
   {
    "level": 0,
    "resolution": 4233.341800016934,
    "scale": 1.6000000000000002E7
   },
   {
    "level": 1,
    "resolution": 2116.670900008467,
    "scale": 8000000.000000001
   },
   {
    "level": 2,
    "resolution": 1058.3354500042335,
    "scale": 4000000.0000000005
   },
   {
    "level": 3,
    "resolution": 529.1677250021168,
    "scale": 2000000.0000000002
   },
   {
    "level": 4,
    "resolution": 317.50063500127004,
    "scale": 1200000
   },
   {
    "level": 5,
    "resolution": 291.0422487511642,
    "scale": 1100000
   },
   {
    "level": 6,
    "resolution": 264.5838625010584,
    "scale": 1000000.0000000001
   },
   {
    "level": 7,
    "resolution": 238.12547625095252,
    "scale": 900000
   },
   {
    "level": 8,
    "resolution": 211.66709000084668,
    "scale": 800000
   },
   {
    "level": 9,
    "resolution": 185.20870375074085,
    "scale": 700000
   },
   {
    "level": 10,
    "resolution": 158.75031750063502,
    "scale": 600000
   },
   {
    "level": 11,
    "resolution": 132.2919312505292,
    "scale": 500000.00000000006
   },
   {
    "level": 12,
    "resolution": 66.1459656252646,
    "scale": 250000.00000000003
   },
   {
    "level": 13,
    "resolution": 33.0729828126323,
    "scale": 125000.00000000001
   },
   {
    "level": 14,
    "resolution": 16.933367200067735,
    "scale": 64000
   },
   {
    "level": 15,
    "resolution": 8.466683600033868,
    "scale": 32000
   },
   {
    "level": 16,
    "resolution": 4.233341800016934,
    "scale": 16000
   },
   {
    "level": 17,
    "resolution": 2.116670900008467,
    "scale": 8000
   },
   {
    "level": 18,
    "resolution": 1.0583354500042335,
    "scale": 4000
   },
   {
    "level": 19,
    "resolution": 0.5291677250021167,
    "scale": 2000
   },
   {
    "level": 20,
    "resolution": 0.26458386250105836,
    "scale": 1000
   },
   {
    "level": 21,
    "resolution": 0.13229193125052918,
    "scale": 500
   },
   {
    "level": 22,
    "resolution": 0.06614596562526459,
    "scale": 250
   },
   {
    "level": 23,
    "resolution": 0.033072982812632296,
    "scale": 125
   },
   {
    "level": 24,
    "resolution": 0.019843789687579376,
    "scale": 75
   },
   {
    "level": 25,
    "resolution": 0.013229193125052918,
    "scale": 50
   },
   {
    "level": 26,
    "resolution": 0.006614596562526459,
    "scale": 25
   },
   {
    "level": 27,
    "resolution": 0.0013229193125052917,
    "scale": 5
   }
  ]
 },
 "cacheType": "Map",
 "allowRasterFunction": true,
 "rasterFunctionInfos": [
  {
   "name": "None",
   "description": "",
   "help": ""
  }
 ],
 "rasterTypeInfos": [
  {
   "name": "Raster Dataset",
   "description": "Supports all ArcGIS Raster Datasets",
   "help": ""
  }
 ],
 "mensurationCapabilities": "Basic",
 "hasHistograms": true,
 "hasColormap": false,
 "hasRasterAttributeTable": false,
 "minScale": 1.6000000000000002E7,
 "maxScale": 500,
 "minLOD": 0,
 "maxLOD": 21,
 "exportTilesAllowed": false,
 "hasMultidimensions": false,
 "supportsStatistics": false,
 "supportsAdvancedQueries": false,
 "editFieldsInfo": null,
 "ownershipBasedAccessControlForRasters": null,
 "allowComputeTiePoints": false,
 "useStandardizedQueries": true,
 "advancedQueryCapabilities": {
  "useStandardizedQueries": true,
  "supportsStatistics": false,
  "supportsOrderBy": false,
  "supportsDistinct": false,
  "supportsPagination": false
 },
 "spatialReference": {
  "wkid": 7856,
  "latestWkid": 7856
 }
}
