View In:
ArcGIS JavaScript
ArcGIS Online Map Viewer
ArcGIS Earth
ArcMap
View Footprint In:
ArcGIS Online Map Viewer
Service Description: Imagery/Duri_village_14Aug2019_03cm
Name: Imagery/Duri_village_14Aug2019_03cm
Description:
Single Fused Map Cache: false
Extent:
XMin: 291609.12719
YMin: 6543991.712410001
XMax: 292597.72109
YMax: 6544913.156970001
Spatial Reference: 32756
(32756)
Initial Extent:
XMin: 291609.12719
YMin: 6543991.712410001
XMax: 292597.72109
YMax: 6544913.156970001
Spatial Reference: 32756
(32756)
Full Extent:
XMin: 291609.12719
YMin: 6543991.712410001
XMax: 292597.72109
YMax: 6544913.156970001
Spatial Reference: 32756
(32756)
Pixel Size X: 0.02301999999999949
Pixel Size Y: 0.023019999999993546
Band Count: 4
Pixel Type: U8
RasterFunction Infos: {"rasterFunctionInfos": [{
"name": "None",
"description": "",
"help": ""
}]}
Mensuration Capabilities: Basic
Has Histograms: true
Has Colormap: false
Has Multi Dimensions : false
Rendering Rule:
Min Scale: 0
Max Scale: 0
Copyright Text:
Service Data Type: esriImageServiceDataTypeGeneric
Min Values: 0, 0, 0, 0
Max Values: 255, 255, 255, 255
Mean Values: 92.089780987802, 86.355464271254, 73.14954652548, 164.73292409071
Standard Deviation Values: 81.052950879565, 74.810115909234, 65.259030650449, 121.94244286671
Object ID Field:
Fields:
None
Default Mosaic Method: Center
Allowed Mosaic Methods:
SortField:
SortValue: null
Mosaic Operator: First
Default Compression Quality: 75
Default Resampling Method: Bilinear
Max Record Count: null
Max Image Height: 4100
Max Image Width: 15000
Max Download Image Count: null
Max Mosaic Image Count: null
Allow Raster Function: true
Allow Compute TiePoints: false
Supports Statistics: false
Supports Advanced Queries: false
Use StandardizedQueries: true
Raster Type Infos:
Name: Raster Dataset
Description: Supports all ArcGIS Raster Datasets
Help:
Has Raster Attribute Table: false
Edit Fields Info: null
Ownership Based AccessControl For Rasters: null
Child Resources:
Info
Histograms
Key Properties
Legend
MultiDimensionalInfo
rasterFunctionInfos
Supported Operations:
Export Image
Identify
Measure
Compute Histograms
Compute Statistics Histograms
Get Samples
Compute Class Statistics
Query Boundary
Compute Pixel Location