{
 "currentVersion": 10.71,
 "serviceDescription": "Imagery/Duri_village_14Aug2019_03cm",
 "name": "Imagery/Duri_village_14Aug2019_03cm",
 "description": "",
 "extent": {
  "xmin": 291609.12719,
  "ymin": 6543991.712410001,
  "xmax": 292597.72109,
  "ymax": 6544913.156970001,
  "spatialReference": {
   "wkid": 32756,
   "latestWkid": 32756
  }
 },
 "initialExtent": {
  "xmin": 291609.12719,
  "ymin": 6543991.712410001,
  "xmax": 292597.72109,
  "ymax": 6544913.156970001,
  "spatialReference": {
   "wkid": 32756,
   "latestWkid": 32756
  }
 },
 "fullExtent": {
  "xmin": 291609.12719,
  "ymin": 6543991.712410001,
  "xmax": 292597.72109,
  "ymax": 6544913.156970001,
  "spatialReference": {
   "wkid": 32756,
   "latestWkid": 32756
  }
 },
 "pixelSizeX": 0.02301999999999949,
 "pixelSizeY": 0.023019999999993546,
 "bandCount": 4,
 "pixelType": "U8",
 "minPixelSize": 0,
 "maxPixelSize": 0,
 "copyrightText": "",
 "serviceDataType": "esriImageServiceDataTypeGeneric",
 "minValues": [
  0,
  0,
  0,
  0
 ],
 "maxValues": [
  255,
  255,
  255,
  255
 ],
 "meanValues": [
  92.089780987802,
  86.355464271254,
  73.14954652548,
  164.73292409071
 ],
 "stdvValues": [
  81.052950879565,
  74.810115909234,
  65.259030650449,
  121.94244286671
 ],
 "objectIdField": "",
 "fields": [],
 "capabilities": "Mensuration,Image,Metadata",
 "defaultMosaicMethod": "Center",
 "allowedMosaicMethods": "",
 "sortField": "",
 "sortValue": null,
 "mosaicOperator": "First",
 "defaultCompressionQuality": 75,
 "defaultResamplingMethod": "Bilinear",
 "maxImageHeight": 4100,
 "maxImageWidth": 15000,
 "allowRasterFunction": true,
 "rasterFunctionInfos": [
  {
   "name": "None",
   "description": "",
   "help": ""
  }
 ],
 "rasterTypeInfos": [
  {
   "name": "Raster Dataset",
   "description": "Supports all ArcGIS Raster Datasets",
   "help": ""
  }
 ],
 "mensurationCapabilities": "Basic",
 "hasHistograms": true,
 "hasColormap": false,
 "hasRasterAttributeTable": false,
 "minScale": 0,
 "maxScale": 0,
 "exportTilesAllowed": false,
 "hasMultidimensions": false,
 "supportsStatistics": false,
 "supportsAdvancedQueries": false,
 "editFieldsInfo": null,
 "ownershipBasedAccessControlForRasters": null,
 "allowComputeTiePoints": false,
 "useStandardizedQueries": true,
 "advancedQueryCapabilities": {
  "useStandardizedQueries": true,
  "supportsStatistics": false,
  "supportsOrderBy": false,
  "supportsDistinct": false,
  "supportsPagination": false
 },
 "spatialReference": {
  "wkid": 32756,
  "latestWkid": 32756
 }
}
