View In:
ArcGIS JavaScript
ArcGIS Online Map Viewer
ArcGIS Earth
ArcMap
View Footprint In:
ArcGIS Online Map Viewer
Service Description: Imagery/Barraba_5Mar2008_20cm
Name: Imagery/Barraba_5Mar2008_20cm
Description:
Single Fused Map Cache: false
Extent:
XMin: 267999.99999999977
YMin: 6633999.999999995
XMax: 271599.99999999977
YMax: 6638599.999999995
Spatial Reference: 28356
(28356)
Initial Extent:
XMin: 267999.99999999977
YMin: 6633999.999999995
XMax: 271599.99999999977
YMax: 6638599.999999995
Spatial Reference: 28356
(28356)
Full Extent:
XMin: 267999.99999999977
YMin: 6633999.999999995
XMax: 271599.99999999977
YMax: 6638599.999999995
Spatial Reference: 28356
(28356)
Pixel Size X: 0.2
Pixel Size Y: 0.2
Band Count: 3
Pixel Type: U8
RasterFunction Infos: {"rasterFunctionInfos": [{
"name": "None",
"description": "",
"help": ""
}]}
Mensuration Capabilities: Basic
Has Histograms: true
Has Colormap: false
Has Multi Dimensions : false
Rendering Rule:
Min Scale: 0
Max Scale: 0
Copyright Text:
Service Data Type: esriImageServiceDataTypeRGB
Min Values: 75, 76, 66
Max Values: 214, 188, 183
Mean Values: 148.32125603865, 133.80434782609, 115.82367149758
Standard Deviation Values: 20.570923374783, 17.377670134609, 18.72459557549
Object ID Field:
Fields:
None
Default Mosaic Method: Center
Allowed Mosaic Methods:
SortField:
SortValue: null
Mosaic Operator: First
Default Compression Quality: 75
Default Resampling Method: Bilinear
Max Record Count: null
Max Image Height: 4100
Max Image Width: 15000
Max Download Image Count: null
Max Mosaic Image Count: null
Allow Raster Function: true
Allow Compute TiePoints: false
Supports Statistics: false
Supports Advanced Queries: false
Use StandardizedQueries: true
Raster Type Infos:
Name: Raster Dataset
Description: Supports all ArcGIS Raster Datasets
Help:
Has Raster Attribute Table: false
Edit Fields Info: null
Ownership Based AccessControl For Rasters: null
Child Resources:
Info
Histograms
Key Properties
Legend
MultiDimensionalInfo
rasterFunctionInfos
Supported Operations:
Export Image
Identify
Measure
Compute Histograms
Compute Statistics Histograms
Get Samples
Compute Class Statistics
Query Boundary
Compute Pixel Location