{
 "currentVersion": 10.71,
 "serviceDescription": "Imagery/Barraba_5Mar2008_20cm",
 "name": "Imagery/Barraba_5Mar2008_20cm",
 "description": "",
 "extent": {
  "xmin": 267999.99999999977,
  "ymin": 6633999.999999995,
  "xmax": 271599.99999999977,
  "ymax": 6638599.999999995,
  "spatialReference": {
   "wkid": 28356,
   "latestWkid": 28356
  }
 },
 "initialExtent": {
  "xmin": 267999.99999999977,
  "ymin": 6633999.999999995,
  "xmax": 271599.99999999977,
  "ymax": 6638599.999999995,
  "spatialReference": {
   "wkid": 28356,
   "latestWkid": 28356
  }
 },
 "fullExtent": {
  "xmin": 267999.99999999977,
  "ymin": 6633999.999999995,
  "xmax": 271599.99999999977,
  "ymax": 6638599.999999995,
  "spatialReference": {
   "wkid": 28356,
   "latestWkid": 28356
  }
 },
 "pixelSizeX": 0.2,
 "pixelSizeY": 0.2,
 "bandCount": 3,
 "pixelType": "U8",
 "minPixelSize": 0,
 "maxPixelSize": 0,
 "copyrightText": "",
 "serviceDataType": "esriImageServiceDataTypeRGB",
 "minValues": [
  75,
  76,
  66
 ],
 "maxValues": [
  214,
  188,
  183
 ],
 "meanValues": [
  148.32125603865,
  133.80434782609,
  115.82367149758
 ],
 "stdvValues": [
  20.570923374783,
  17.377670134609,
  18.72459557549
 ],
 "objectIdField": "",
 "fields": [],
 "capabilities": "Mensuration,Image,Metadata",
 "defaultMosaicMethod": "Center",
 "allowedMosaicMethods": "",
 "sortField": "",
 "sortValue": null,
 "mosaicOperator": "First",
 "defaultCompressionQuality": 75,
 "defaultResamplingMethod": "Bilinear",
 "maxImageHeight": 4100,
 "maxImageWidth": 15000,
 "allowRasterFunction": true,
 "rasterFunctionInfos": [
  {
   "name": "None",
   "description": "",
   "help": ""
  }
 ],
 "rasterTypeInfos": [
  {
   "name": "Raster Dataset",
   "description": "Supports all ArcGIS Raster Datasets",
   "help": ""
  }
 ],
 "mensurationCapabilities": "Basic",
 "hasHistograms": true,
 "hasColormap": false,
 "hasRasterAttributeTable": false,
 "minScale": 0,
 "maxScale": 0,
 "exportTilesAllowed": false,
 "hasMultidimensions": false,
 "supportsStatistics": false,
 "supportsAdvancedQueries": false,
 "editFieldsInfo": null,
 "ownershipBasedAccessControlForRasters": null,
 "allowComputeTiePoints": false,
 "useStandardizedQueries": true,
 "advancedQueryCapabilities": {
  "useStandardizedQueries": true,
  "supportsStatistics": false,
  "supportsOrderBy": false,
  "supportsDistinct": false,
  "supportsPagination": false
 },
 "spatialReference": {
  "wkid": 28356,
  "latestWkid": 28356
 }
}
