View In:
ArcGIS JavaScript
ArcGIS Online Map Viewer
ArcGIS Earth
ArcMap
View Footprint In:
ArcGIS Online Map Viewer
Service Description: Attunga drone capture
Name: Imagery/Attunga_August_2023
Description: Attunga drone capture
Single Fused Map Cache: false
Extent:
XMin: 292820.74321265606
YMin: 6575777.290132933
XMax: 294413.8168948002
YMax: 6576747.0146956695
Spatial Reference: 7856
(7856)
VCSWkid(5773)
LatestVCSWkid(5773)
Initial Extent:
XMin: 292820.74321265606
YMin: 6575777.290132933
XMax: 294413.8168948002
YMax: 6576747.0146956695
Spatial Reference: 7856
(7856)
VCSWkid(5773)
LatestVCSWkid(5773)
Full Extent:
XMin: 292820.74321265606
YMin: 6575777.290132933
XMax: 294413.8168948002
YMax: 6576747.0146956695
Spatial Reference: 7856
(7856)
VCSWkid(5773)
LatestVCSWkid(5773)
Pixel Size X: 0.030161567687988333
Pixel Size Y: 0.030161567687979476
Band Count: 3
Pixel Type: U8
RasterFunction Infos: {"rasterFunctionInfos": [{
"name": "None",
"description": "",
"help": ""
}]}
Mensuration Capabilities: Basic
Has Histograms: true
Has Colormap: false
Has Multi Dimensions : false
Rendering Rule:
Min Scale: 0
Max Scale: 0
Copyright Text:
Service Data Type: esriImageServiceDataTypeRGB
Min Values: 1, 1, 1
Max Values: 254, 254, 254
Mean Values: 142.5819720094, 133.49473015126, 109.45060700582
Standard Deviation Values: 51.469582369853, 46.523702158928, 48.725937727005
Object ID Field:
Fields:
None
Default Mosaic Method: Center
Allowed Mosaic Methods:
SortField:
SortValue: null
Mosaic Operator: First
Default Compression Quality: 75
Default Resampling Method: Bilinear
Max Record Count: null
Max Image Height: 4100
Max Image Width: 15000
Max Download Image Count: null
Max Mosaic Image Count: null
Allow Raster Function: true
Allow Compute TiePoints: false
Supports Statistics: false
Supports Advanced Queries: false
Use StandardizedQueries: true
Raster Type Infos:
Name: Raster Dataset
Description: Supports all ArcGIS Raster Datasets
Help:
Has Raster Attribute Table: false
Edit Fields Info: null
Ownership Based AccessControl For Rasters: null
Child Resources:
Info
Histograms
Key Properties
Legend
MultiDimensionalInfo
rasterFunctionInfos
Supported Operations:
Export Image
Identify
Measure
Compute Histograms
Compute Statistics Histograms
Get Samples
Compute Class Statistics
Query Boundary
Compute Pixel Location