{
 "currentVersion": 10.71,
 "serviceDescription": "Attunga drone capture",
 "name": "Imagery/Attunga_August_2023",
 "description": "Attunga drone capture",
 "extent": {
  "xmin": 292820.74321265606,
  "ymin": 6575777.290132933,
  "xmax": 294413.8168948002,
  "ymax": 6576747.0146956695,
  "spatialReference": {
   "wkid": 7856,
   "latestWkid": 7856,
   "vcsWkid": 5773,
   "latestVcsWkid": 5773
  }
 },
 "initialExtent": {
  "xmin": 292820.74321265606,
  "ymin": 6575777.290132933,
  "xmax": 294413.8168948002,
  "ymax": 6576747.0146956695,
  "spatialReference": {
   "wkid": 7856,
   "latestWkid": 7856,
   "vcsWkid": 5773,
   "latestVcsWkid": 5773
  }
 },
 "fullExtent": {
  "xmin": 292820.74321265606,
  "ymin": 6575777.290132933,
  "xmax": 294413.8168948002,
  "ymax": 6576747.0146956695,
  "spatialReference": {
   "wkid": 7856,
   "latestWkid": 7856,
   "vcsWkid": 5773,
   "latestVcsWkid": 5773
  }
 },
 "heightModelInfo": {
  "heightModel": "gravity_related_height",
  "vertCRS": "EGM96_Geoid",
  "heightUnit": "meter"
 },
 "pixelSizeX": 0.030161567687988333,
 "pixelSizeY": 0.030161567687979476,
 "bandCount": 3,
 "pixelType": "U8",
 "minPixelSize": 0,
 "maxPixelSize": 0,
 "copyrightText": "",
 "serviceDataType": "esriImageServiceDataTypeRGB",
 "minValues": [
  1,
  1,
  1
 ],
 "maxValues": [
  254,
  254,
  254
 ],
 "meanValues": [
  142.5819720094,
  133.49473015126,
  109.45060700582
 ],
 "stdvValues": [
  51.469582369853,
  46.523702158928,
  48.725937727005
 ],
 "objectIdField": "",
 "fields": [],
 "capabilities": "Mensuration,Image,Metadata",
 "defaultMosaicMethod": "Center",
 "allowedMosaicMethods": "",
 "sortField": "",
 "sortValue": null,
 "mosaicOperator": "First",
 "defaultCompressionQuality": 75,
 "defaultResamplingMethod": "Bilinear",
 "maxImageHeight": 4100,
 "maxImageWidth": 15000,
 "allowRasterFunction": true,
 "rasterFunctionInfos": [
  {
   "name": "None",
   "description": "",
   "help": ""
  }
 ],
 "rasterTypeInfos": [
  {
   "name": "Raster Dataset",
   "description": "Supports all ArcGIS Raster Datasets",
   "help": ""
  }
 ],
 "mensurationCapabilities": "Basic",
 "hasHistograms": true,
 "hasColormap": false,
 "hasRasterAttributeTable": false,
 "minScale": 0,
 "maxScale": 0,
 "exportTilesAllowed": false,
 "hasMultidimensions": false,
 "supportsStatistics": false,
 "supportsAdvancedQueries": false,
 "editFieldsInfo": null,
 "ownershipBasedAccessControlForRasters": null,
 "allowComputeTiePoints": false,
 "useStandardizedQueries": true,
 "advancedQueryCapabilities": {
  "useStandardizedQueries": true,
  "supportsStatistics": false,
  "supportsOrderBy": false,
  "supportsDistinct": false,
  "supportsPagination": false
 },
 "spatialReference": {
  "wkid": 7856,
  "latestWkid": 7856,
  "vcsWkid": 5773,
  "latestVcsWkid": 5773
 }
}
