View In:
ArcGIS JavaScript
ArcGIS Online Map Viewer
ArcGIS Earth
ArcMap
View Footprint In:
ArcGIS Online Map Viewer
Service Description: Imagery/woolbrook_2016_02_10cm_clip_tif
Name: Imagery/woolbrook_2016_02_10cm_clip_tif
Description:
Single Fused Map Cache: false
Extent:
XMin: 340321.1491362916
YMin: 6572308.819747711
XMax: 342315.7502294518
YMax: 6574710.934839572
Spatial Reference: 28356
(28356)
Initial Extent:
XMin: 340321.1491362916
YMin: 6572308.819747711
XMax: 342315.7502294518
YMax: 6574710.934839572
Spatial Reference: 28356
(28356)
Full Extent:
XMin: 340321.1491362916
YMin: 6572308.819747711
XMax: 342315.7502294518
YMax: 6574710.934839572
Spatial Reference: 28356
(28356)
Pixel Size X: 0.09999504151803386
Pixel Size Y: 0.09999646540093354
Band Count: 4
Pixel Type: U8
RasterFunction Infos: {"rasterFunctionInfos": [{
"name": "None",
"description": "",
"help": ""
}]}
Mensuration Capabilities: Basic
Has Histograms: true
Has Colormap: false
Has Multi Dimensions : false
Rendering Rule:
Min Scale: 0
Max Scale: 0
Copyright Text:
Service Data Type: esriImageServiceDataTypeGeneric
Min Values: 0, 0, 0, 0
Max Values: 255, 255, 255, 255
Mean Values: 122.56196090141, 119.23509818104, 91.932994383754, 198.36594943043
Standard Deviation Values: 73.342874859605, 70.647929785686, 55.117638052753, 105.98722849726
Object ID Field:
Fields:
None
Default Mosaic Method: Center
Allowed Mosaic Methods:
SortField:
SortValue: null
Mosaic Operator: First
Default Compression Quality: 75
Default Resampling Method: Bilinear
Max Record Count: null
Max Image Height: 4100
Max Image Width: 15000
Max Download Image Count: null
Max Mosaic Image Count: null
Allow Raster Function: true
Allow Compute TiePoints: false
Supports Statistics: false
Supports Advanced Queries: false
Use StandardizedQueries: true
Raster Type Infos:
Name: Raster Dataset
Description: Supports all ArcGIS Raster Datasets
Help:
Has Raster Attribute Table: false
Edit Fields Info: null
Ownership Based AccessControl For Rasters: null
Child Resources:
Info
Histograms
Key Properties
Legend
MultiDimensionalInfo
rasterFunctionInfos
Supported Operations:
Export Image
Identify
Measure
Compute Histograms
Compute Statistics Histograms
Get Samples
Compute Class Statistics
Query Boundary
Compute Pixel Location