View In:
ArcGIS JavaScript
ArcGIS Online Map Viewer
ArcGIS Earth
ArcMap
View Footprint In:
ArcGIS Online Map Viewer
Service Description: Imagery/murrurundi_Nov2011_50cm
Name: Imagery/murrurundi_Nov2011_50cm
Description:
Single Fused Map Cache: false
Extent:
XMin: 262389.7070000001
YMin: 6456594.853000001
XMax: 311354.2070000001
YMax: 6513445.853000001
Spatial Reference: 28356
(28356)
Initial Extent:
XMin: 262389.7070000001
YMin: 6456594.853000001
XMax: 311354.2070000001
YMax: 6513445.853000001
Spatial Reference: 28356
(28356)
Full Extent:
XMin: 262389.7070000001
YMin: 6456594.853000001
XMax: 311354.2070000001
YMax: 6513445.853000001
Spatial Reference: 28356
(28356)
Pixel Size X: 0.5
Pixel Size Y: 0.5
Band Count: 3
Pixel Type: U8
RasterFunction Infos: {"rasterFunctionInfos": [{
"name": "None",
"description": "",
"help": ""
}]}
Mensuration Capabilities: Basic
Has Histograms: true
Has Colormap: false
Has Multi Dimensions : false
Rendering Rule:
Min Scale: 0
Max Scale: 0
Copyright Text:
Service Data Type: esriImageServiceDataTypeRGB
Min Values: 1, 1, 1
Max Values: 253, 249, 246
Mean Values: 153.64500502696, 152.16281195722, 125.42684821347
Standard Deviation Values: 34.739110191855, 30.834132715969, 30.918819880037
Object ID Field:
Fields:
None
Default Mosaic Method: Center
Allowed Mosaic Methods:
SortField:
SortValue: null
Mosaic Operator: First
Default Compression Quality: 75
Default Resampling Method: Bilinear
Max Record Count: null
Max Image Height: 4100
Max Image Width: 15000
Max Download Image Count: null
Max Mosaic Image Count: null
Allow Raster Function: true
Allow Compute TiePoints: false
Supports Statistics: false
Supports Advanced Queries: false
Use StandardizedQueries: true
Raster Type Infos:
Name: Raster Dataset
Description: Supports all ArcGIS Raster Datasets
Help:
Has Raster Attribute Table: false
Edit Fields Info: null
Ownership Based AccessControl For Rasters: null
Child Resources:
Info
Histograms
Key Properties
Legend
MultiDimensionalInfo
rasterFunctionInfos
Supported Operations:
Export Image
Identify
Measure
Compute Histograms
Compute Statistics Histograms
Get Samples
Compute Class Statistics
Query Boundary
Compute Pixel Location