View In:
ArcGIS JavaScript
ArcGIS Online Map Viewer
ArcGIS Earth
ArcMap
View Footprint In:
ArcGIS Online Map Viewer
Service Description: Imagery/moonbi2006
Name: Imagery/moonbi2006
Description:
Single Fused Map Cache: false
Extent:
XMin: 314087.55711479
YMin: 6565806.052172841
XMax: 318157.15711478965
YMax: 6569871.45217284
Spatial Reference: 28356
(28356)
Initial Extent:
XMin: 314087.55711479
YMin: 6565806.052172841
XMax: 318157.15711478965
YMax: 6569871.45217284
Spatial Reference: 28356
(28356)
Full Extent:
XMin: 314087.55711479
YMin: 6565806.052172841
XMax: 318157.15711478965
YMax: 6569871.45217284
Spatial Reference: 28356
(28356)
Pixel Size X: 0.1999999999999817
Pixel Size Y: 0.1999999999999725
Band Count: 3
Pixel Type: U8
RasterFunction Infos: {"rasterFunctionInfos": [{
"name": "None",
"description": "",
"help": ""
}]}
Mensuration Capabilities: Basic
Has Histograms: true
Has Colormap: false
Has Multi Dimensions : false
Rendering Rule:
Min Scale: 64000
Max Scale: 1000
Copyright Text:
Service Data Type: esriImageServiceDataTypeRGB
Min Values: 0, 0, 0
Max Values: 255, 255, 255
Mean Values: 141.09716496731, 136.87557655351, 118.70893391577
Standard Deviation Values: 65.917577814214, 65.471014209638, 70.963315919981
Object ID Field:
Fields:
None
Default Mosaic Method: Center
Allowed Mosaic Methods:
SortField:
SortValue: null
Mosaic Operator: First
Default Compression Quality: 75
Default Resampling Method: Bilinear
Max Record Count: null
Max Image Height: 4100
Max Image Width: 15000
Max Download Image Count: null
Max Mosaic Image Count: null
Allow Raster Function: true
Allow Compute TiePoints: false
Supports Statistics: false
Supports Advanced Queries: false
Use StandardizedQueries: true
Raster Type Infos:
Name: Raster Dataset
Description: Supports all ArcGIS Raster Datasets
Help:
Has Raster Attribute Table: false
Edit Fields Info: null
Ownership Based AccessControl For Rasters: null
Child Resources:
Info
Histograms
Key Properties
Legend
MultiDimensionalInfo
rasterFunctionInfos
Supported Operations:
Export Image
Identify
Measure
Compute Histograms
Compute Statistics Histograms
Get Samples
Compute Class Statistics
Query Boundary
Compute Pixel Location