View In:
ArcGIS JavaScript
ArcGIS Online Map Viewer
ArcGIS Earth
ArcMap
View Footprint In:
ArcGIS Online Map Viewer
Service Description: Imagery/kootingal2006
Name: Imagery/kootingal2006
Description:
Single Fused Map Cache: false
Extent:
XMin: 312533.8597648304
YMin: 6560557.343319943
XMax: 316553.05976483
YMax: 6564543.943319943
Spatial Reference: 28356
(28356)
Initial Extent:
XMin: 312533.8597648304
YMin: 6560557.343319943
XMax: 316553.05976483
YMax: 6564543.943319943
Spatial Reference: 28356
(28356)
Full Extent:
XMin: 312533.8597648304
YMin: 6560557.343319943
XMax: 316553.05976483
YMax: 6564543.943319943
Spatial Reference: 28356
(28356)
Pixel Size X: 0.1999999999999803
Pixel Size Y: 0.1999999999999813
Band Count: 3
Pixel Type: U8
RasterFunction Infos: {"rasterFunctionInfos": [{
"name": "None",
"description": "",
"help": ""
}]}
Mensuration Capabilities: Basic
Has Histograms: true
Has Colormap: false
Has Multi Dimensions : false
Rendering Rule:
Min Scale: 0
Max Scale: 0
Copyright Text:
Service Data Type: esriImageServiceDataTypeRGB
Min Values: 0, 0, 0
Max Values: 255, 255, 255
Mean Values: 140.30805259233, 134.59220579426, 114.05189436757
Standard Deviation Values: 57.385413230363, 56.697719404283, 61.194980163369
Object ID Field:
Fields:
None
Default Mosaic Method: Center
Allowed Mosaic Methods:
SortField:
SortValue: null
Mosaic Operator: First
Default Compression Quality: 75
Default Resampling Method: Bilinear
Max Record Count: null
Max Image Height: 4100
Max Image Width: 15000
Max Download Image Count: null
Max Mosaic Image Count: null
Allow Raster Function: true
Allow Compute TiePoints: false
Supports Statistics: false
Supports Advanced Queries: false
Use StandardizedQueries: true
Raster Type Infos:
Name: Raster Dataset
Description: Supports all ArcGIS Raster Datasets
Help:
Has Raster Attribute Table: false
Edit Fields Info: null
Ownership Based AccessControl For Rasters: null
Child Resources:
Info
Histograms
Key Properties
Legend
MultiDimensionalInfo
rasterFunctionInfos
Supported Operations:
Export Image
Identify
Measure
Compute Histograms
Compute Statistics Histograms
Get Samples
Compute Class Statistics
Query Boundary
Compute Pixel Location