View In:
ArcGIS JavaScript
ArcGIS Online Map Viewer
ArcGIS Earth
ArcMap
View Footprint In:
ArcGIS Online Map Viewer
Service Description: Imagery/hillsplains2006
Name: Imagery/hillsplains2006
Description:
Single Fused Map Cache: false
Extent:
XMin: 294805.5353495259
YMin: 6562066.227015024
XMax: 305903.93533842755
YMax: 6566552.827015024
Spatial Reference: 28356
(28356)
Initial Extent:
XMin: 294805.5353495259
YMin: 6562066.227015024
XMax: 305903.93533842755
YMax: 6566552.827015024
Spatial Reference: 28356
(28356)
Full Extent:
XMin: 294805.5353495259
YMin: 6562066.227015024
XMax: 305903.93533842755
YMax: 6566552.827015024
Spatial Reference: 28356
(28356)
Pixel Size X: 0.1999999998000005
Pixel Size Y: 0.19999999999998339
Band Count: 3
Pixel Type: U8
RasterFunction Infos: {"rasterFunctionInfos": [{
"name": "None",
"description": "",
"help": ""
}]}
Mensuration Capabilities: Basic
Has Histograms: true
Has Colormap: false
Has Multi Dimensions : false
Rendering Rule:
Min Scale: 0
Max Scale: 0
Copyright Text:
Service Data Type: esriImageServiceDataTypeRGB
Min Values: 0, 0, 0
Max Values: 255, 255, 255
Mean Values: 108.49551430623, 102.28184242645, 78.573455671344
Standard Deviation Values: 57.571917549976, 51.727308931582, 40.697483010711
Object ID Field:
Fields:
None
Default Mosaic Method: Center
Allowed Mosaic Methods:
SortField:
SortValue: null
Mosaic Operator: First
Default Compression Quality: 75
Default Resampling Method: Bilinear
Max Record Count: null
Max Image Height: 4100
Max Image Width: 15000
Max Download Image Count: null
Max Mosaic Image Count: null
Allow Raster Function: true
Allow Compute TiePoints: false
Supports Statistics: false
Supports Advanced Queries: false
Use StandardizedQueries: true
Raster Type Infos:
Name: Raster Dataset
Description: Supports all ArcGIS Raster Datasets
Help:
Has Raster Attribute Table: false
Edit Fields Info: null
Ownership Based AccessControl For Rasters: null
Child Resources:
Info
Histograms
Key Properties
Legend
MultiDimensionalInfo
rasterFunctionInfos
Supported Operations:
Export Image
Identify
Measure
Compute Histograms
Compute Statistics Histograms
Get Samples
Compute Class Statistics
Query Boundary
Compute Pixel Location