View In:
ArcGIS JavaScript
ArcGIS Online Map Viewer
ArcGIS Earth
ArcMap
View Footprint In:
ArcGIS Online Map Viewer
Service Description: Imagery/Tamworth_West_Oct2011_10cm
Name: Imagery/Tamworth_West_Oct2011_10cm
Description:
Single Fused Map Cache: false
Extent:
XMin: 291999.1389397567
YMin: 6552439.29300099
XMax: 305415.23893975624
YMax: 6563083.393000989
Spatial Reference: 28356
(28356)
Initial Extent:
XMin: 291999.1389397567
YMin: 6552439.29300099
XMax: 305415.23893975624
YMax: 6563083.393000989
Spatial Reference: 28356
(28356)
Full Extent:
XMin: 291999.1389397567
YMin: 6552439.29300099
XMax: 305415.23893975624
YMax: 6563083.393000989
Spatial Reference: 28356
(28356)
Pixel Size X: 0.09999999999999636
Pixel Size Y: 0.0999999999999965
Band Count: 3
Pixel Type: U8
RasterFunction Infos: {"rasterFunctionInfos": [{
"name": "None",
"description": "",
"help": ""
}]}
Mensuration Capabilities: Basic
Has Histograms: true
Has Colormap: false
Has Multi Dimensions : false
Rendering Rule:
Min Scale: 0
Max Scale: 0
Copyright Text:
Service Data Type: esriImageServiceDataTypeRGB
Min Values: 0, 0, 0
Max Values: 255, 255, 255
Mean Values: 135.34016745236, 141.88550335547, 107.7133314236
Standard Deviation Values: 37.074774087125, 32.531753949625, 32.936641185113
Object ID Field:
Fields:
None
Default Mosaic Method: Center
Allowed Mosaic Methods:
SortField:
SortValue: null
Mosaic Operator: First
Default Compression Quality: 75
Default Resampling Method: Bilinear
Max Record Count: null
Max Image Height: 4100
Max Image Width: 15000
Max Download Image Count: null
Max Mosaic Image Count: null
Allow Raster Function: true
Allow Compute TiePoints: false
Supports Statistics: false
Supports Advanced Queries: false
Use StandardizedQueries: true
Raster Type Infos:
Name: Raster Dataset
Description: Supports all ArcGIS Raster Datasets
Help:
Has Raster Attribute Table: false
Edit Fields Info: null
Ownership Based AccessControl For Rasters: null
Child Resources:
Info
Histograms
Key Properties
Legend
MultiDimensionalInfo
rasterFunctionInfos
Supported Operations:
Export Image
Identify
Measure
Compute Histograms
Compute Statistics Histograms
Get Samples
Compute Class Statistics
Query Boundary
Compute Pixel Location