View In:
ArcGIS JavaScript
ArcGIS Online Map Viewer
ArcGIS Earth
ArcMap
View Footprint In:
ArcGIS Online Map Viewer
Service Description: Imagery/Nundle_31Jan2016_10cm
Name: Imagery/Nundle_31Jan2016_10cm
Description:
Single Fused Map Cache: false
Extent:
XMin: 320061.0687563171
YMin: 6514722.497254306
XMax: 324542.66413860675
YMax: 6519809.486929819
Spatial Reference: 28356
(28356)
Initial Extent:
XMin: 320061.0687563171
YMin: 6514722.497254306
XMax: 324542.66413860675
YMax: 6519809.486929819
Spatial Reference: 28356
(28356)
Full Extent:
XMin: 320061.0687563171
YMin: 6514722.497254306
XMax: 324542.66413860675
YMax: 6519809.486929819
Spatial Reference: 28356
(28356)
Pixel Size X: 0.10039191286686387
Pixel Size Y: 0.10039450711491094
Band Count: 4
Pixel Type: U8
RasterFunction Infos: {"rasterFunctionInfos": [{
"name": "None",
"description": "",
"help": ""
}]}
Mensuration Capabilities: Basic
Has Histograms: false
Has Colormap: false
Has Multi Dimensions : false
Rendering Rule:
Min Scale: 0
Max Scale: 0
Copyright Text:
Service Data Type: esriImageServiceDataTypeGeneric
Min Values: N/A
Max Values: N/A
Mean Values: N/A
Standard Deviation Values: N/A
Object ID Field:
Fields:
None
Default Mosaic Method: Center
Allowed Mosaic Methods:
SortField:
SortValue: null
Mosaic Operator: First
Default Compression Quality: 75
Default Resampling Method: Bilinear
Max Record Count: null
Max Image Height: 4100
Max Image Width: 15000
Max Download Image Count: null
Max Mosaic Image Count: null
Allow Raster Function: true
Allow Compute TiePoints: false
Supports Statistics: false
Supports Advanced Queries: false
Use StandardizedQueries: true
Raster Type Infos:
Name: Raster Dataset
Description: Supports all ArcGIS Raster Datasets
Help:
Has Raster Attribute Table: false
Edit Fields Info: null
Ownership Based AccessControl For Rasters: null
Child Resources:
Info
Key Properties
Legend
MultiDimensionalInfo
rasterFunctionInfos
Supported Operations:
Export Image
Identify
Measure
Compute Histograms
Compute Statistics Histograms
Get Samples
Compute Class Statistics
Query Boundary
Compute Pixel Location