View In:
ArcGIS JavaScript
ArcGIS Online Map Viewer
ArcGIS Earth
ArcMap
View Footprint In:
ArcGIS Online Map Viewer
Service Description: Imagery/Nundle_11Mar2010
Name: Imagery/Nundle_11Mar2010
Description:
Single Fused Map Cache: false
Extent:
XMin: 320680.155436745
YMin: 6515377.179754269
XMax: 323834.555436745
YMax: 6519232.57975427
Spatial Reference: 28356
(28356)
Initial Extent:
XMin: 320680.155436745
YMin: 6515377.179754269
XMax: 323834.555436745
YMax: 6519232.57975427
Spatial Reference: 28356
(28356)
Full Extent:
XMin: 320680.155436745
YMin: 6515377.179754269
XMax: 323834.555436745
YMax: 6519232.57975427
Spatial Reference: 28356
(28356)
Pixel Size X: 0.20000000000000148
Pixel Size Y: 0.20000000000001933
Band Count: 3
Pixel Type: U8
RasterFunction Infos: {"rasterFunctionInfos": [{
"name": "None",
"description": "",
"help": ""
}]}
Mensuration Capabilities: Basic
Has Histograms: true
Has Colormap: false
Has Multi Dimensions : false
Rendering Rule:
Min Scale: 0
Max Scale: 0
Copyright Text:
Service Data Type: esriImageServiceDataTypeRGB
Min Values: 0, 0, 0
Max Values: 255, 255, 255
Mean Values: 134.96503566189, 125.59628101853, 111.04638586502
Standard Deviation Values: 45.869066207901, 40.217249643257, 34.403783623288
Object ID Field:
Fields:
None
Default Mosaic Method: Center
Allowed Mosaic Methods:
SortField:
SortValue: null
Mosaic Operator: First
Default Compression Quality: 75
Default Resampling Method: Bilinear
Max Record Count: null
Max Image Height: 4100
Max Image Width: 15000
Max Download Image Count: null
Max Mosaic Image Count: null
Allow Raster Function: true
Allow Compute TiePoints: false
Supports Statistics: false
Supports Advanced Queries: false
Use StandardizedQueries: true
Raster Type Infos:
Name: Raster Dataset
Description: Supports all ArcGIS Raster Datasets
Help:
Has Raster Attribute Table: false
Edit Fields Info: null
Ownership Based AccessControl For Rasters: null
Child Resources:
Info
Histograms
Key Properties
Legend
MultiDimensionalInfo
rasterFunctionInfos
Supported Operations:
Export Image
Identify
Measure
Compute Histograms
Compute Statistics Histograms
Get Samples
Compute Class Statistics
Query Boundary
Compute Pixel Location