View In:
ArcGIS JavaScript
ArcGIS Online Map Viewer
ArcGIS Earth
ArcMap
View Footprint In:
ArcGIS Online Map Viewer
Service Description: Imagery/Manilla_Oct2012_50cm
Name: Imagery/Manilla_Oct2012_50cm
Description:
Single Fused Map Cache: false
Extent:
XMin: 259772.899
YMin: 6567454.771000001
XMax: 309365.399
YMax: 6624423.271000001
Spatial Reference: 28356
(28356)
Initial Extent:
XMin: 259772.899
YMin: 6567454.771000001
XMax: 309365.399
YMax: 6624423.271000001
Spatial Reference: 28356
(28356)
Full Extent:
XMin: 259772.899
YMin: 6567454.771000001
XMax: 309365.399
YMax: 6624423.271000001
Spatial Reference: 28356
(28356)
Pixel Size X: 0.4999999999999997
Pixel Size Y: 0.5
Band Count: 3
Pixel Type: U8
RasterFunction Infos: {"rasterFunctionInfos": [{
"name": "None",
"description": "",
"help": ""
}]}
Mensuration Capabilities: Basic
Has Histograms: true
Has Colormap: false
Has Multi Dimensions : false
Rendering Rule:
Min Scale: 0
Max Scale: 0
Copyright Text:
Service Data Type: esriImageServiceDataTypeRGB
Min Values: 1, 1, 1
Max Values: 233, 217, 184
Mean Values: 135.86873936027, 122.56216943075, 87.55291692804
Standard Deviation Values: 39.084130265808, 33.987026229146, 27.255459192507
Object ID Field:
Fields:
None
Default Mosaic Method: Center
Allowed Mosaic Methods:
SortField:
SortValue: null
Mosaic Operator: First
Default Compression Quality: 75
Default Resampling Method: Bilinear
Max Record Count: null
Max Image Height: 4100
Max Image Width: 15000
Max Download Image Count: null
Max Mosaic Image Count: null
Allow Raster Function: true
Allow Compute TiePoints: false
Supports Statistics: false
Supports Advanced Queries: false
Use StandardizedQueries: true
Raster Type Infos:
Name: Raster Dataset
Description: Supports all ArcGIS Raster Datasets
Help:
Has Raster Attribute Table: false
Edit Fields Info: null
Ownership Based AccessControl For Rasters: null
Child Resources:
Info
Histograms
Key Properties
Legend
MultiDimensionalInfo
rasterFunctionInfos
Supported Operations:
Export Image
Identify
Measure
Compute Histograms
Compute Statistics Histograms
Get Samples
Compute Class Statistics
Query Boundary
Compute Pixel Location