View In:
ArcGIS JavaScript
ArcGIS Online Map Viewer
ArcGIS Earth
ArcMap
View Footprint In:
ArcGIS Online Map Viewer
Service Description: Imagery/Kootingal_Oct2011
Name: Imagery/Kootingal_Oct2011
Description:
Single Fused Map Cache: false
Extent:
XMin: 312999.75
YMin: 6561222.55
XMax: 317415.9499999999
YMax: 6568935.85
Spatial Reference: 28356
(28356)
Initial Extent:
XMin: 312999.75
YMin: 6561222.55
XMax: 317415.9499999999
YMax: 6568935.85
Spatial Reference: 28356
(28356)
Full Extent:
XMin: 312999.75
YMin: 6561222.55
XMax: 317415.9499999999
YMax: 6568935.85
Spatial Reference: 28356
(28356)
Pixel Size X: 0.09999999999999763
Pixel Size Y: 0.09999999999999759
Band Count: 3
Pixel Type: U8
RasterFunction Infos: {"rasterFunctionInfos": [{
"name": "None",
"description": "",
"help": ""
}]}
Mensuration Capabilities: Basic
Has Histograms: true
Has Colormap: false
Has Multi Dimensions : false
Rendering Rule:
Min Scale: 0
Max Scale: 0
Copyright Text:
Service Data Type: esriImageServiceDataTypeRGB
Min Values: 59, 55, 46
Max Values: 244, 239, 246
Mean Values: 148.0867768595, 154.71044864227, 117.94893742621
Standard Deviation Values: 25.449896287068, 24.340555387796, 19.761585803014
Object ID Field:
Fields:
None
Default Mosaic Method: Center
Allowed Mosaic Methods:
SortField:
SortValue: null
Mosaic Operator: First
Default Compression Quality: 75
Default Resampling Method: Bilinear
Max Record Count: null
Max Image Height: 4100
Max Image Width: 15000
Max Download Image Count: null
Max Mosaic Image Count: null
Allow Raster Function: true
Allow Compute TiePoints: false
Supports Statistics: false
Supports Advanced Queries: false
Use StandardizedQueries: true
Raster Type Infos:
Name: Raster Dataset
Description: Supports all ArcGIS Raster Datasets
Help:
Has Raster Attribute Table: false
Edit Fields Info: null
Ownership Based AccessControl For Rasters: null
Child Resources:
Info
Histograms
Key Properties
Legend
MultiDimensionalInfo
rasterFunctionInfos
Supported Operations:
Export Image
Identify
Measure
Compute Histograms
Compute Statistics Histograms
Get Samples
Compute Class Statistics
Query Boundary
Compute Pixel Location