View In:
ArcGIS JavaScript
ArcGIS Online Map Viewer
ArcGIS Earth
ArcMap
View Footprint In:
ArcGIS Online Map Viewer
Service Description: Imagery/Kootingal_11Mar2010
Name: Imagery/Kootingal_11Mar2010
Description:
Single Fused Map Cache: false
Extent:
XMin: 313260.475161987
YMin: 6561454.48423326
XMax: 315628.075161987
YMax: 6563822.08423326
Spatial Reference: 28356
(28356)
Initial Extent:
XMin: 313260.475161987
YMin: 6561454.48423326
XMax: 315628.075161987
YMax: 6563822.08423326
Spatial Reference: 28356
(28356)
Full Extent:
XMin: 313260.475161987
YMin: 6561454.48423326
XMax: 315628.075161987
YMax: 6563822.08423326
Spatial Reference: 28356
(28356)
Pixel Size X: 0.09999999999999902
Pixel Size Y: 0.09999999999998427
Band Count: 3
Pixel Type: U8
RasterFunction Infos: {"rasterFunctionInfos": [{
"name": "None",
"description": "",
"help": ""
}]}
Mensuration Capabilities: Basic
Has Histograms: true
Has Colormap: false
Has Multi Dimensions : false
Rendering Rule:
Min Scale: 0
Max Scale: 0
Copyright Text:
Service Data Type: esriImageServiceDataTypeRGB
Min Values: 0, 0, 0
Max Values: 255, 255, 255
Mean Values: 135.74667608948, 127.34481208249, 104.74157298913
Standard Deviation Values: 39.511518735234, 34.239683330392, 36.159700551337
Object ID Field:
Fields:
None
Default Mosaic Method: Center
Allowed Mosaic Methods:
SortField:
SortValue: null
Mosaic Operator: First
Default Compression Quality: 75
Default Resampling Method: Bilinear
Max Record Count: null
Max Image Height: 4100
Max Image Width: 15000
Max Download Image Count: null
Max Mosaic Image Count: null
Allow Raster Function: true
Allow Compute TiePoints: false
Supports Statistics: false
Supports Advanced Queries: false
Use StandardizedQueries: true
Raster Type Infos:
Name: Raster Dataset
Description: Supports all ArcGIS Raster Datasets
Help:
Has Raster Attribute Table: false
Edit Fields Info: null
Ownership Based AccessControl For Rasters: null
Child Resources:
Info
Histograms
Key Properties
Legend
MultiDimensionalInfo
rasterFunctionInfos
Supported Operations:
Export Image
Identify
Measure
Compute Histograms
Compute Statistics Histograms
Get Samples
Compute Class Statistics
Query Boundary
Compute Pixel Location