View In:
ArcGIS JavaScript
ArcGIS Online Map Viewer
ArcGIS Earth
ArcMap
View Footprint In:
ArcGIS Online Map Viewer
Service Description: Imagery/Hills_Plain2006
Name: Imagery/Hills_Plain2006
Description:
Single Fused Map Cache: false
Extent:
XMin: 296001.6641871754
YMin: 6563398.250257732
XMax: 300535.064187175
YMax: 6567857.850257732
Spatial Reference: 28356
(28356)
Initial Extent:
XMin: 296001.6641871754
YMin: 6563398.250257732
XMax: 300535.064187175
YMax: 6567857.850257732
Spatial Reference: 28356
(28356)
Full Extent:
XMin: 296001.6641871754
YMin: 6563398.250257732
XMax: 300535.064187175
YMax: 6567857.850257732
Spatial Reference: 28356
(28356)
Pixel Size X: 0.19999999999998305
Pixel Size Y: 0.1999999999999833
Band Count: 3
Pixel Type: U8
RasterFunction Infos: {"rasterFunctionInfos": [{
"name": "None",
"description": "",
"help": ""
}]}
Mensuration Capabilities: Basic
Has Histograms: true
Has Colormap: false
Has Multi Dimensions : false
Rendering Rule:
Min Scale: 0
Max Scale: 0
Copyright Text:
Service Data Type: esriImageServiceDataTypeRGB
Min Values: 0, 0, 0
Max Values: 255, 255, 255
Mean Values: 156.44157125574, 148.17664331372, 129.60618045823
Standard Deviation Values: 62.627622613455, 63.667880324783, 70.241647031467
Object ID Field:
Fields:
None
Default Mosaic Method: Center
Allowed Mosaic Methods:
SortField:
SortValue: null
Mosaic Operator: First
Default Compression Quality: 75
Default Resampling Method: Bilinear
Max Record Count: null
Max Image Height: 4100
Max Image Width: 15000
Max Download Image Count: null
Max Mosaic Image Count: null
Allow Raster Function: true
Allow Compute TiePoints: false
Supports Statistics: false
Supports Advanced Queries: false
Use StandardizedQueries: true
Raster Type Infos:
Name: Raster Dataset
Description: Supports all ArcGIS Raster Datasets
Help:
Has Raster Attribute Table: false
Edit Fields Info: null
Ownership Based AccessControl For Rasters: null
Child Resources:
Info
Histograms
Key Properties
Legend
MultiDimensionalInfo
rasterFunctionInfos
Supported Operations:
Export Image
Identify
Measure
Compute Histograms
Compute Statistics Histograms
Get Samples
Compute Class Statistics
Query Boundary
Compute Pixel Location