View In:
ArcGIS JavaScript
ArcGIS Online Map Viewer
ArcGIS Earth
ArcMap
View Footprint In:
ArcGIS Online Map Viewer
Service Description: Imagery/Boggabri_July2011_50cm
Name: Imagery/Boggabri_July2011_50cm
Description:
Single Fused Map Cache: false
Extent:
XMin: 211686.55234657042
YMin: 6566027.512635379
XMax: 261625.55234657042
YMax: 6623512.012635379
Spatial Reference: 28356
(28356)
Initial Extent:
XMin: 211686.55234657042
YMin: 6566027.512635379
XMax: 261625.55234657042
YMax: 6623512.012635379
Spatial Reference: 28356
(28356)
Full Extent:
XMin: 211686.55234657042
YMin: 6566027.512635379
XMax: 261625.55234657042
YMax: 6623512.012635379
Spatial Reference: 28356
(28356)
Pixel Size X: 0.5
Pixel Size Y: 0.5
Band Count: 3
Pixel Type: U8
RasterFunction Infos: {"rasterFunctionInfos": [{
"name": "None",
"description": "",
"help": ""
}]}
Mensuration Capabilities: Basic
Has Histograms: true
Has Colormap: false
Has Multi Dimensions : false
Rendering Rule:
Min Scale: 0
Max Scale: 0
Copyright Text:
Service Data Type: esriImageServiceDataTypeRGB
Min Values: 2, 3, 1
Max Values: 255, 247, 214
Mean Values: 150.48957871397, 143.50394818561, 128.63201773836
Standard Deviation Values: 21.218186018328, 19.075992368789, 16.935408922105
Object ID Field:
Fields:
None
Default Mosaic Method: Center
Allowed Mosaic Methods:
SortField:
SortValue: null
Mosaic Operator: First
Default Compression Quality: 75
Default Resampling Method: Bilinear
Max Record Count: null
Max Image Height: 4100
Max Image Width: 15000
Max Download Image Count: null
Max Mosaic Image Count: null
Allow Raster Function: true
Allow Compute TiePoints: false
Supports Statistics: false
Supports Advanced Queries: false
Use StandardizedQueries: true
Raster Type Infos:
Name: Raster Dataset
Description: Supports all ArcGIS Raster Datasets
Help:
Has Raster Attribute Table: false
Edit Fields Info: null
Ownership Based AccessControl For Rasters: null
Child Resources:
Info
Histograms
Key Properties
Legend
MultiDimensionalInfo
rasterFunctionInfos
Supported Operations:
Export Image
Identify
Measure
Compute Histograms
Compute Statistics Histograms
Get Samples
Compute Class Statistics
Query Boundary
Compute Pixel Location