View In:
ArcGIS JavaScript
ArcGIS Online Map Viewer
ArcGIS Earth
ArcMap
View Footprint In:
ArcGIS Online Map Viewer
Service Description: Imagery/Bendemeer_Nov2011_50cm
Name: Imagery/Bendemeer_Nov2011_50cm
Description:
Single Fused Map Cache: false
Extent:
XMin: 307418.25
YMin: 6568030.75
XMax: 357534.25
YMax: 6626050.25
Spatial Reference: 28356
(28356)
Initial Extent:
XMin: 307418.25
YMin: 6568030.75
XMax: 357534.25
YMax: 6626050.25
Spatial Reference: 28356
(28356)
Full Extent:
XMin: 307418.25
YMin: 6568030.75
XMax: 357534.25
YMax: 6626050.25
Spatial Reference: 28356
(28356)
Pixel Size X: 0.5
Pixel Size Y: 0.5
Band Count: 3
Pixel Type: U8
RasterFunction Infos: {"rasterFunctionInfos": [{
"name": "None",
"description": "",
"help": ""
}]}
Mensuration Capabilities: Basic
Has Histograms: true
Has Colormap: false
Has Multi Dimensions : false
Rendering Rule:
Min Scale: 0
Max Scale: 0
Copyright Text:
Service Data Type: esriImageServiceDataTypeRGB
Min Values: 1, 1, 1
Max Values: 226, 217, 213
Mean Values: 138.69446609509, 141.5186725587, 119.48562770563
Standard Deviation Values: 19.836334664119, 19.596566269058, 15.570739464035
Object ID Field:
Fields:
None
Default Mosaic Method: Center
Allowed Mosaic Methods:
SortField:
SortValue: null
Mosaic Operator: First
Default Compression Quality: 75
Default Resampling Method: Bilinear
Max Record Count: null
Max Image Height: 4100
Max Image Width: 15000
Max Download Image Count: null
Max Mosaic Image Count: null
Allow Raster Function: true
Allow Compute TiePoints: false
Supports Statistics: false
Supports Advanced Queries: false
Use StandardizedQueries: true
Raster Type Infos:
Name: Raster Dataset
Description: Supports all ArcGIS Raster Datasets
Help:
Has Raster Attribute Table: false
Edit Fields Info: null
Ownership Based AccessControl For Rasters: null
Child Resources:
Info
Histograms
Key Properties
Legend
MultiDimensionalInfo
rasterFunctionInfos
Supported Operations:
Export Image
Identify
Measure
Compute Histograms
Compute Statistics Histograms
Get Samples
Compute Class Statistics
Query Boundary
Compute Pixel Location