View In:
ArcGIS JavaScript
ArcGIS Online Map Viewer
ArcGIS Earth
ArcMap
View Footprint In:
ArcGIS Online Map Viewer
Service Description: Imagery/Bendemeer_12Sept2010_20cm
Name: Imagery/Bendemeer_12Sept2010_20cm
Description:
Single Fused Map Cache: true
Tile Info:
- Height: 256
- Width: 256
- DPI: 96
-
Levels of Detail: 7
- Format: PNG
- Compression Quality: 0.0
- LERC Error: NaN
- Origin: X: -5120900.0
Y: 1.99981E7
- Spatial Reference: 28356
(28356)
Extent:
XMin: 321104.43864229735
YMin: 6578000.0516971275
XMax: 326248.0386422973
YMax: 6587869.451697128
Spatial Reference: 28356
(28356)
Initial Extent:
XMin: 321104.43864229735
YMin: 6578000.0516971275
XMax: 326248.0386422973
YMax: 6587869.451697128
Spatial Reference: 28356
(28356)
Full Extent:
XMin: 321104.43864229735
YMin: 6578000.0516971275
XMax: 326248.0386422973
YMax: 6587869.451697128
Spatial Reference: 28356
(28356)
Pixel Size X: 0.1999999999999991
Pixel Size Y: 0.20000000000000756
Band Count: 3
Pixel Type: U8
RasterFunction Infos: {"rasterFunctionInfos": [{
"name": "None",
"description": "",
"help": ""
}]}
Mensuration Capabilities: Basic
Has Histograms: true
Has Colormap: false
Has Multi Dimensions : false
Rendering Rule:
Min Scale: 64000
Max Scale: 1000
Copyright Text:
Service Data Type: esriImageServiceDataTypeRGB
Min Values: 0, 0, 0
Max Values: 255, 255, 255
Mean Values: 125.51773607172, 116.92997817139, 97.765270322691
Standard Deviation Values: 42.965556854244, 39.39198321604, 32.673508366998
Object ID Field:
Fields:
None
Default Mosaic Method: Center
Allowed Mosaic Methods:
SortField:
SortValue: null
Mosaic Operator: First
Default Compression Quality: 75
Default Resampling Method: Bilinear
Max Record Count: null
Max Image Height: 4100
Max Image Width: 15000
Max Download Image Count: null
Max Mosaic Image Count: null
Allow Raster Function: true
Allow Compute TiePoints: false
Supports Statistics: false
Supports Advanced Queries: false
Use StandardizedQueries: true
Raster Type Infos:
Name: Raster Dataset
Description: Supports all ArcGIS Raster Datasets
Help:
Has Raster Attribute Table: false
Edit Fields Info: null
Ownership Based AccessControl For Rasters: null
Child Resources:
Info
Histograms
Key Properties
Legend
MultiDimensionalInfo
rasterFunctionInfos
Supported Operations:
Export Image
Identify
Measure
Compute Histograms
Compute Statistics Histograms
Get Samples
Compute Class Statistics
Query Boundary
Compute Pixel Location