View In:
ArcGIS JavaScript
ArcGIS Online Map Viewer
ArcGIS Earth
ArcMap
View Footprint In:
ArcGIS Online Map Viewer
Service Description: Imagery/Bendemeer2006
Name: Imagery/Bendemeer2006
Description:
Single Fused Map Cache: false
Extent:
XMin: 321963.10542684386
YMin: 6580254.065999821
XMax: 326107.3054268439
YMax: 6584398.065999821
Spatial Reference: 28356
(28356)
Initial Extent:
XMin: 321963.10542684386
YMin: 6580254.065999821
XMax: 326107.3054268439
YMax: 6584398.065999821
Spatial Reference: 28356
(28356)
Full Extent:
XMin: 321963.10542684386
YMin: 6580254.065999821
XMax: 326107.3054268439
YMax: 6584398.065999821
Spatial Reference: 28356
(28356)
Pixel Size X: 0.20000000000000057
Pixel Size Y: 0.2
Band Count: 3
Pixel Type: U8
RasterFunction Infos: {"rasterFunctionInfos": [{
"name": "None",
"description": "",
"help": ""
}]}
Mensuration Capabilities: Basic
Has Histograms: true
Has Colormap: false
Has Multi Dimensions : false
Rendering Rule:
Min Scale: 0
Max Scale: 0
Copyright Text:
Service Data Type: esriImageServiceDataTypeRGB
Min Values: 0, 0, 0
Max Values: 255, 255, 255
Mean Values: 152.09174707177, 149.60278889093, 129.93362241022
Standard Deviation Values: 67.966850463153, 67.735670325171, 75.679023447379
Object ID Field:
Fields:
None
Default Mosaic Method: Center
Allowed Mosaic Methods:
SortField:
SortValue: null
Mosaic Operator: First
Default Compression Quality: 75
Default Resampling Method: Bilinear
Max Record Count: null
Max Image Height: 4100
Max Image Width: 15000
Max Download Image Count: null
Max Mosaic Image Count: null
Allow Raster Function: true
Allow Compute TiePoints: false
Supports Statistics: false
Supports Advanced Queries: false
Use StandardizedQueries: true
Raster Type Infos:
Name: Raster Dataset
Description: Supports all ArcGIS Raster Datasets
Help:
Has Raster Attribute Table: false
Edit Fields Info: null
Ownership Based AccessControl For Rasters: null
Child Resources:
Info
Histograms
Key Properties
Legend
MultiDimensionalInfo
rasterFunctionInfos
Supported Operations:
Export Image
Identify
Measure
Compute Histograms
Compute Statistics Histograms
Get Samples
Compute Class Statistics
Query Boundary
Compute Pixel Location