View In:
ArcGIS JavaScript
ArcGIS Online Map Viewer
ArcGIS Earth
ArcMap
View Footprint In:
ArcGIS Online Map Viewer
Service Description: Imagery/Barraba_Oct2011_10cm
Name: Imagery/Barraba_Oct2011_10cm
Description:
Single Fused Map Cache: false
Extent:
XMin: 268286.7
YMin: 6634159.6
XMax: 271520.10000000003
YMax: 6638533.6
Spatial Reference: 28356
(28356)
Initial Extent:
XMin: 268286.7
YMin: 6634159.6
XMax: 271520.10000000003
YMax: 6638533.6
Spatial Reference: 28356
(28356)
Full Extent:
XMin: 268286.7
YMin: 6634159.6
XMax: 271520.10000000003
YMax: 6638533.6
Spatial Reference: 28356
(28356)
Pixel Size X: 0.10000000000000071
Pixel Size Y: 0.1
Band Count: 3
Pixel Type: U8
RasterFunction Infos: {"rasterFunctionInfos": [{
"name": "None",
"description": "",
"help": ""
}]}
Mensuration Capabilities: Basic
Has Histograms: true
Has Colormap: false
Has Multi Dimensions : false
Rendering Rule:
Min Scale: 0
Max Scale: 0
Copyright Text:
Service Data Type: esriImageServiceDataTypeRGB
Min Values: 58, 68, 45
Max Values: 240, 239, 234
Mean Values: 163.58212209302, 166.15843023256, 129.53851744186
Standard Deviation Values: 23.679538082158, 20.122596293887, 20.837552789058
Object ID Field:
Fields:
None
Default Mosaic Method: Center
Allowed Mosaic Methods:
SortField:
SortValue: null
Mosaic Operator: First
Default Compression Quality: 75
Default Resampling Method: Bilinear
Max Record Count: null
Max Image Height: 4100
Max Image Width: 15000
Max Download Image Count: null
Max Mosaic Image Count: null
Allow Raster Function: true
Allow Compute TiePoints: false
Supports Statistics: false
Supports Advanced Queries: false
Use StandardizedQueries: true
Raster Type Infos:
Name: Raster Dataset
Description: Supports all ArcGIS Raster Datasets
Help:
Has Raster Attribute Table: false
Edit Fields Info: null
Ownership Based AccessControl For Rasters: null
Child Resources:
Info
Histograms
Key Properties
Legend
MultiDimensionalInfo
rasterFunctionInfos
Supported Operations:
Export Image
Identify
Measure
Compute Histograms
Compute Statistics Histograms
Get Samples
Compute Class Statistics
Query Boundary
Compute Pixel Location