View In:
ArcGIS JavaScript
ArcGIS Online Map Viewer
ArcGIS Earth
ArcMap
View Footprint In:
ArcGIS Online Map Viewer
Service Description: Imagery/Barraba2006
Name: Imagery/Barraba2006
Description:
Single Fused Map Cache: false
Extent:
XMin: 268178.6609679032
YMin: 6634307.617684394
XMax: 272112.46096790285
YMax: 6638313.217684394
Spatial Reference: 28356
(28356)
Initial Extent:
XMin: 268178.6609679032
YMin: 6634307.617684394
XMax: 272112.46096790285
YMax: 6638313.217684394
Spatial Reference: 28356
(28356)
Full Extent:
XMin: 268178.6609679032
YMin: 6634307.617684394
XMax: 272112.46096790285
YMax: 6638313.217684394
Spatial Reference: 28356
(28356)
Pixel Size X: 0.19999999999998166
Pixel Size Y: 0.1999999999999814
Band Count: 3
Pixel Type: U8
RasterFunction Infos: {"rasterFunctionInfos": [{
"name": "None",
"description": "",
"help": ""
}]}
Mensuration Capabilities: Basic
Has Histograms: true
Has Colormap: false
Has Multi Dimensions : false
Rendering Rule:
Min Scale: 0
Max Scale: 0
Copyright Text:
Service Data Type: esriImageServiceDataTypeRGB
Min Values: 0, 0, 0
Max Values: 255, 255, 255
Mean Values: 121.15459581859, 118.83119701107, 93.847178033817
Standard Deviation Values: 46.980576696461, 45.04070636001, 45.449970369042
Object ID Field:
Fields:
None
Default Mosaic Method: Center
Allowed Mosaic Methods:
SortField:
SortValue: null
Mosaic Operator: First
Default Compression Quality: 75
Default Resampling Method: Bilinear
Max Record Count: null
Max Image Height: 4100
Max Image Width: 15000
Max Download Image Count: null
Max Mosaic Image Count: null
Allow Raster Function: true
Allow Compute TiePoints: false
Supports Statistics: false
Supports Advanced Queries: false
Use StandardizedQueries: true
Raster Type Infos:
Name: Raster Dataset
Description: Supports all ArcGIS Raster Datasets
Help:
Has Raster Attribute Table: false
Edit Fields Info: null
Ownership Based AccessControl For Rasters: null
Child Resources:
Info
Histograms
Key Properties
Legend
MultiDimensionalInfo
rasterFunctionInfos
Supported Operations:
Export Image
Identify
Measure
Compute Histograms
Compute Statistics Histograms
Get Samples
Compute Class Statistics
Query Boundary
Compute Pixel Location