View In:
ArcGIS JavaScript
ArcGIS Online Map Viewer
ArcGIS Earth
ArcMap
View Footprint In:
ArcGIS Online Map Viewer
Service Description: Tamworth_FloodDepth_RF100yr_2025
Name: Tamworth_FloodDepth_RF100yr_2025
Description:
Single Fused Map Cache: false
Extent:
XMin: 288407.5
YMin: 6547500
XMax: 311998.75
YMax: 6566261.25
Spatial Reference: 7856
(7856)
Initial Extent:
XMin: 288407.5
YMin: 6547500
XMax: 311998.75
YMax: 6566261.25
Spatial Reference: 7856
(7856)
Full Extent:
XMin: 288407.5
YMin: 6547500
XMax: 311998.75
YMax: 6566261.25
Spatial Reference: 7856
(7856)
Pixel Size X: 1.25
Pixel Size Y: 1.25
Band Count: 1
Pixel Type: F32
RasterFunction Infos: {"rasterFunctionInfos": [{
"name": "None",
"description": "",
"help": ""
}]}
Mensuration Capabilities: Basic
Has Histograms: true
Has Colormap: false
Has Multi Dimensions : false
Rendering Rule:
Min Scale: 0
Max Scale: 0
Copyright Text:
Service Data Type: esriImageServiceDataTypeGeneric
Min Values: 0.05000000074505806
Max Values: 395.635986328125
Mean Values: 1.2612890131069503
Standard Deviation Values: 3.6492541542455044
Object ID Field:
Fields:
None
Default Mosaic Method: Center
Allowed Mosaic Methods:
SortField:
SortValue: null
Mosaic Operator: First
Default Compression Quality: 75
Default Resampling Method: Bilinear
Max Record Count: null
Max Image Height: 4100
Max Image Width: 15000
Max Download Image Count: null
Max Mosaic Image Count: null
Allow Raster Function: true
Allow Compute TiePoints: false
Supports Statistics: false
Supports Advanced Queries: false
Use StandardizedQueries: true
Raster Type Infos:
Name: Raster Dataset
Description: Supports all ArcGIS Raster Datasets
Help:
Has Raster Attribute Table: false
Edit Fields Info: null
Ownership Based AccessControl For Rasters: null
Child Resources:
Info
Histograms
Key Properties
Legend
MultiDimensionalInfo
rasterFunctionInfos
Supported Operations:
Export Image
Identify
Measure
Compute Histograms
Compute Statistics Histograms
Get Samples
Compute Class Statistics
Query Boundary
Compute Pixel Location