{
 "currentVersion": 10.71,
 "serviceDescription": "Imagery/Limbri_To_Weabonga_17Sept2010_20cm",
 "name": "Imagery/Limbri_To_Weabonga_17Sept2010_20cm",
 "description": "",
 "extent": {
  "xmin": 322000,
  "ymin": 6542000,
  "xmax": 342000,
  "ymax": 6568000,
  "spatialReference": {
   "wkt": "PROJCS[\"MI_0\",GEOGCS[\"GCS_Unknown\",DATUM[\"D_Unknown\",SPHEROID[\"Geodetic_Reference_System_of_1980\",6378137.0,298.2572221008916]],PRIMEM[\"Greenwich\",0.0],UNIT[\"Degree\",0.0174532925199433]],PROJECTION[\"Transverse_Mercator\"],PARAMETER[\"false_easting\",500000.0],PARAMETER[\"false_northing\",10000000.0],PARAMETER[\"central_meridian\",153.0],PARAMETER[\"scale_factor\",0.9996],PARAMETER[\"latitude_of_origin\",0.0],UNIT[\"Meter\",1.0]]"
  }
 },
 "initialExtent": {
  "xmin": 322000,
  "ymin": 6542000,
  "xmax": 342000,
  "ymax": 6568000,
  "spatialReference": {
   "wkt": "PROJCS[\"MI_0\",GEOGCS[\"GCS_Unknown\",DATUM[\"D_Unknown\",SPHEROID[\"Geodetic_Reference_System_of_1980\",6378137.0,298.2572221008916]],PRIMEM[\"Greenwich\",0.0],UNIT[\"Degree\",0.0174532925199433]],PROJECTION[\"Transverse_Mercator\"],PARAMETER[\"false_easting\",500000.0],PARAMETER[\"false_northing\",10000000.0],PARAMETER[\"central_meridian\",153.0],PARAMETER[\"scale_factor\",0.9996],PARAMETER[\"latitude_of_origin\",0.0],UNIT[\"Meter\",1.0]]"
  }
 },
 "fullExtent": {
  "xmin": 322000,
  "ymin": 6542000,
  "xmax": 342000,
  "ymax": 6568000,
  "spatialReference": {
   "wkt": "PROJCS[\"MI_0\",GEOGCS[\"GCS_Unknown\",DATUM[\"D_Unknown\",SPHEROID[\"Geodetic_Reference_System_of_1980\",6378137.0,298.2572221008916]],PRIMEM[\"Greenwich\",0.0],UNIT[\"Degree\",0.0174532925199433]],PROJECTION[\"Transverse_Mercator\"],PARAMETER[\"false_easting\",500000.0],PARAMETER[\"false_northing\",10000000.0],PARAMETER[\"central_meridian\",153.0],PARAMETER[\"scale_factor\",0.9996],PARAMETER[\"latitude_of_origin\",0.0],UNIT[\"Meter\",1.0]]"
  }
 },
 "pixelSizeX": 0.2,
 "pixelSizeY": 0.2,
 "bandCount": 3,
 "pixelType": "U8",
 "minPixelSize": 0,
 "maxPixelSize": 0,
 "copyrightText": "",
 "serviceDataType": "esriImageServiceDataTypeRGB",
 "minValues": [],
 "maxValues": [],
 "meanValues": [],
 "stdvValues": [],
 "objectIdField": "",
 "fields": [],
 "capabilities": "Mensuration,Image,Metadata",
 "defaultMosaicMethod": "Center",
 "allowedMosaicMethods": "",
 "sortField": "",
 "sortValue": null,
 "mosaicOperator": "First",
 "defaultCompressionQuality": 75,
 "defaultResamplingMethod": "Bilinear",
 "maxImageHeight": 4100,
 "maxImageWidth": 15000,
 "allowRasterFunction": true,
 "rasterFunctionInfos": [
  {
   "name": "None",
   "description": "",
   "help": ""
  }
 ],
 "rasterTypeInfos": [
  {
   "name": "Raster Dataset",
   "description": "Supports all ArcGIS Raster Datasets",
   "help": ""
  }
 ],
 "mensurationCapabilities": "Basic",
 "hasHistograms": false,
 "hasColormap": false,
 "hasRasterAttributeTable": false,
 "minScale": 0,
 "maxScale": 0,
 "exportTilesAllowed": false,
 "hasMultidimensions": false,
 "supportsStatistics": false,
 "supportsAdvancedQueries": false,
 "editFieldsInfo": null,
 "ownershipBasedAccessControlForRasters": null,
 "allowComputeTiePoints": false,
 "useStandardizedQueries": true,
 "advancedQueryCapabilities": {
  "useStandardizedQueries": true,
  "supportsStatistics": false,
  "supportsOrderBy": false,
  "supportsDistinct": false,
  "supportsPagination": false
 },
 "spatialReference": {
  "wkt": "PROJCS[\"MI_0\",GEOGCS[\"GCS_Unknown\",DATUM[\"D_Unknown\",SPHEROID[\"Geodetic_Reference_System_of_1980\",6378137.0,298.2572221008916]],PRIMEM[\"Greenwich\",0.0],UNIT[\"Degree\",0.0174532925199433]],PROJECTION[\"Transverse_Mercator\"],PARAMETER[\"false_easting\",500000.0],PARAMETER[\"false_northing\",10000000.0],PARAMETER[\"central_meridian\",153.0],PARAMETER[\"scale_factor\",0.9996],PARAMETER[\"latitude_of_origin\",0.0],UNIT[\"Meter\",1.0]]"
 }
}
