{
 "currentVersion": 10.71,
 "serviceDescription": "2019 Imagery Dynamic",
 "name": "Imagery/Imagery_2019_Dynamic",
 "description": "2019 Imagery Dynamic",
 "extent": {
  "xmin": 225207.19789999916,
  "ymin": 6495691.612400001,
  "xmax": 356179.69789999916,
  "ymax": 6659202.112400001,
  "spatialReference": {
   "wkid": 7856,
   "latestWkid": 7856
  }
 },
 "initialExtent": {
  "xmin": 225207.19789999916,
  "ymin": 6495691.612400001,
  "xmax": 356179.69789999916,
  "ymax": 6659202.112400001,
  "spatialReference": {
   "wkid": 7856,
   "latestWkid": 7856
  }
 },
 "fullExtent": {
  "xmin": 225207.19789999916,
  "ymin": 6495691.612400001,
  "xmax": 356179.69789999916,
  "ymax": 6659202.112400001,
  "spatialReference": {
   "wkid": 7856,
   "latestWkid": 7856
  }
 },
 "pixelSizeX": 1.5,
 "pixelSizeY": 1.5,
 "bandCount": 4,
 "pixelType": "U16",
 "minPixelSize": 0,
 "maxPixelSize": 0,
 "copyrightText": "",
 "serviceDataType": "esriImageServiceDataTypeGeneric",
 "minValues": [
  0,
  0,
  0,
  0
 ],
 "maxValues": [
  293,
  257,
  257,
  257
 ],
 "meanValues": [
  194.02068740289,
  194.79022585432,
  194.45283899814,
  117.71448881587
 ],
 "stdvValues": [
  78.691216386884,
  78.295933236676,
  78.34491481156,
  127.12229338755
 ],
 "objectIdField": "",
 "fields": [],
 "capabilities": "Image,Metadata,Catalog,Mensuration",
 "defaultMosaicMethod": "ByAttribute",
 "allowedMosaicMethods": "ByAttribute",
 "sortField": "Name",
 "sortValue": "0",
 "mosaicOperator": "First",
 "maxDownloadSizeLimit": 2048,
 "defaultCompressionQuality": 75,
 "defaultResamplingMethod": "Bilinear",
 "maxImageHeight": 4100,
 "maxImageWidth": 15000,
 "maxRecordCount": 1000,
 "maxDownloadImageCount": 20,
 "maxMosaicImageCount": 20,
 "allowRasterFunction": true,
 "rasterFunctionInfos": [
  {
   "name": "None",
   "description": "",
   "help": ""
  }
 ],
 "rasterTypeInfos": [
  {
   "name": "Raster Dataset",
   "description": "Supports all ArcGIS Raster Datasets",
   "help": ""
  }
 ],
 "mensurationCapabilities": "Basic",
 "hasHistograms": true,
 "hasColormap": false,
 "hasRasterAttributeTable": false,
 "minScale": 0,
 "maxScale": 0,
 "exportTilesAllowed": false,
 "hasMultidimensions": false,
 "supportsStatistics": false,
 "supportsAdvancedQueries": false,
 "editFieldsInfo": null,
 "ownershipBasedAccessControlForRasters": null,
 "allowComputeTiePoints": false,
 "useStandardizedQueries": true,
 "advancedQueryCapabilities": {
  "useStandardizedQueries": true,
  "supportsStatistics": false,
  "supportsOrderBy": false,
  "supportsDistinct": false,
  "supportsPagination": false
 },
 "spatialReference": {
  "wkid": 7856,
  "latestWkid": 7856
 }
}
