{
 "currentVersion": 10.71,
 "serviceDescription": "Imagery/Horton_Sept2012_50cm",
 "name": "Imagery/Horton_Sept2012_50cm",
 "description": "",
 "extent": {
  "xmin": 210148.879,
  "ymin": 6620922.621,
  "xmax": 260277.379,
  "ymax": 6679675.121,
  "spatialReference": {
   "wkid": 28356,
   "latestWkid": 28356
  }
 },
 "initialExtent": {
  "xmin": 210148.879,
  "ymin": 6620922.621,
  "xmax": 260277.379,
  "ymax": 6679675.121,
  "spatialReference": {
   "wkid": 28356,
   "latestWkid": 28356
  }
 },
 "fullExtent": {
  "xmin": 210148.879,
  "ymin": 6620922.621,
  "xmax": 260277.379,
  "ymax": 6679675.121,
  "spatialReference": {
   "wkid": 28356,
   "latestWkid": 28356
  }
 },
 "pixelSizeX": 0.5,
 "pixelSizeY": 0.5,
 "bandCount": 3,
 "pixelType": "U8",
 "minPixelSize": 0,
 "maxPixelSize": 0,
 "copyrightText": "",
 "serviceDataType": "esriImageServiceDataTypeRGB",
 "minValues": [
  1,
  1,
  1
 ],
 "maxValues": [
  180,
  164,
  149
 ],
 "meanValues": [
  112.05000428119,
  108.2329764454,
  85.471615720524
 ],
 "stdvValues": [
  23.483901846972,
  22.4586085004,
  19.140291903665
 ],
 "objectIdField": "",
 "fields": [],
 "capabilities": "Mensuration,Image,Metadata",
 "defaultMosaicMethod": "Center",
 "allowedMosaicMethods": "",
 "sortField": "",
 "sortValue": null,
 "mosaicOperator": "First",
 "defaultCompressionQuality": 75,
 "defaultResamplingMethod": "Bilinear",
 "maxImageHeight": 4100,
 "maxImageWidth": 15000,
 "allowRasterFunction": true,
 "rasterFunctionInfos": [
  {
   "name": "None",
   "description": "",
   "help": ""
  }
 ],
 "rasterTypeInfos": [
  {
   "name": "Raster Dataset",
   "description": "Supports all ArcGIS Raster Datasets",
   "help": ""
  }
 ],
 "mensurationCapabilities": "Basic",
 "hasHistograms": true,
 "hasColormap": false,
 "hasRasterAttributeTable": false,
 "minScale": 0,
 "maxScale": 0,
 "exportTilesAllowed": false,
 "hasMultidimensions": false,
 "supportsStatistics": false,
 "supportsAdvancedQueries": false,
 "editFieldsInfo": null,
 "ownershipBasedAccessControlForRasters": null,
 "allowComputeTiePoints": false,
 "useStandardizedQueries": true,
 "advancedQueryCapabilities": {
  "useStandardizedQueries": true,
  "supportsStatistics": false,
  "supportsOrderBy": false,
  "supportsDistinct": false,
  "supportsPagination": false
 },
 "spatialReference": {
  "wkid": 28356,
  "latestWkid": 28356
 }
}
