{
 "currentVersion": 10.71,
 "serviceDescription": "Imagery/Attunga_July2019_03cm",
 "name": "Imagery/Attunga_July2019_03cm",
 "description": "",
 "extent": {
  "xmin": 292767.20594,
  "ymin": 6575918.110510001,
  "xmax": 294456.7553399996,
  "ymax": 6576730.599110001,
  "spatialReference": {
   "wkid": 32756,
   "latestWkid": 32756
  }
 },
 "initialExtent": {
  "xmin": 292767.20594,
  "ymin": 6575918.110510001,
  "xmax": 294456.7553399996,
  "ymax": 6576730.599110001,
  "spatialReference": {
   "wkid": 32756,
   "latestWkid": 32756
  }
 },
 "fullExtent": {
  "xmin": 292767.20594,
  "ymin": 6575918.110510001,
  "xmax": 294456.7553399996,
  "ymax": 6576730.599110001,
  "spatialReference": {
   "wkid": 32756,
   "latestWkid": 32756
  }
 },
 "pixelSizeX": 0.02155999999999503,
 "pixelSizeY": 0.0215599999999949,
 "bandCount": 4,
 "pixelType": "U8",
 "minPixelSize": 0,
 "maxPixelSize": 0,
 "copyrightText": "",
 "serviceDataType": "esriImageServiceDataTypeGeneric",
 "minValues": [],
 "maxValues": [],
 "meanValues": [],
 "stdvValues": [],
 "objectIdField": "",
 "fields": [],
 "capabilities": "Mensuration,Image,Metadata",
 "defaultMosaicMethod": "Center",
 "allowedMosaicMethods": "",
 "sortField": "",
 "sortValue": null,
 "mosaicOperator": "First",
 "defaultCompressionQuality": 75,
 "defaultResamplingMethod": "Bilinear",
 "maxImageHeight": 4100,
 "maxImageWidth": 15000,
 "allowRasterFunction": true,
 "rasterFunctionInfos": [
  {
   "name": "None",
   "description": "",
   "help": ""
  }
 ],
 "rasterTypeInfos": [
  {
   "name": "Raster Dataset",
   "description": "Supports all ArcGIS Raster Datasets",
   "help": ""
  }
 ],
 "mensurationCapabilities": "Basic",
 "hasHistograms": false,
 "hasColormap": false,
 "hasRasterAttributeTable": false,
 "minScale": 0,
 "maxScale": 0,
 "exportTilesAllowed": false,
 "hasMultidimensions": false,
 "supportsStatistics": false,
 "supportsAdvancedQueries": false,
 "editFieldsInfo": null,
 "ownershipBasedAccessControlForRasters": null,
 "allowComputeTiePoints": false,
 "useStandardizedQueries": true,
 "advancedQueryCapabilities": {
  "useStandardizedQueries": true,
  "supportsStatistics": false,
  "supportsOrderBy": false,
  "supportsDistinct": false,
  "supportsPagination": false
 },
 "spatialReference": {
  "wkid": 32756,
  "latestWkid": 32756
 }
}
