View In:
ArcGIS JavaScript
ArcGIS Online Map Viewer
ArcGIS Earth
ArcMap
View Footprint In:
ArcGIS Online Map Viewer
Service Description: Imagery/Attunga_July2019_03cm
Name: Imagery/Attunga_July2019_03cm
Description:
Single Fused Map Cache: false
Extent:
XMin: 292767.20594
YMin: 6575918.110510001
XMax: 294456.7553399996
YMax: 6576730.599110001
Spatial Reference: 32756
(32756)
Initial Extent:
XMin: 292767.20594
YMin: 6575918.110510001
XMax: 294456.7553399996
YMax: 6576730.599110001
Spatial Reference: 32756
(32756)
Full Extent:
XMin: 292767.20594
YMin: 6575918.110510001
XMax: 294456.7553399996
YMax: 6576730.599110001
Spatial Reference: 32756
(32756)
Pixel Size X: 0.02155999999999503
Pixel Size Y: 0.0215599999999949
Band Count: 4
Pixel Type: U8
RasterFunction Infos: {"rasterFunctionInfos": [{
"name": "None",
"description": "",
"help": ""
}]}
Mensuration Capabilities: Basic
Has Histograms: false
Has Colormap: false
Has Multi Dimensions : false
Rendering Rule:
Min Scale: 0
Max Scale: 0
Copyright Text:
Service Data Type: esriImageServiceDataTypeGeneric
Min Values: N/A
Max Values: N/A
Mean Values: N/A
Standard Deviation Values: N/A
Object ID Field:
Fields:
None
Default Mosaic Method: Center
Allowed Mosaic Methods:
SortField:
SortValue: null
Mosaic Operator: First
Default Compression Quality: 75
Default Resampling Method: Bilinear
Max Record Count: null
Max Image Height: 4100
Max Image Width: 15000
Max Download Image Count: null
Max Mosaic Image Count: null
Allow Raster Function: true
Allow Compute TiePoints: false
Supports Statistics: false
Supports Advanced Queries: false
Use StandardizedQueries: true
Raster Type Infos:
Name: Raster Dataset
Description: Supports all ArcGIS Raster Datasets
Help:
Has Raster Attribute Table: false
Edit Fields Info: null
Ownership Based AccessControl For Rasters: null
Child Resources:
Info
Key Properties
Legend
MultiDimensionalInfo
rasterFunctionInfos
Supported Operations:
Export Image
Identify
Measure
Compute Histograms
Compute Statistics Histograms
Get Samples
Compute Class Statistics
Query Boundary
Compute Pixel Location