{
 "currentVersion": 10.71,
 "serviceDescription": "Basemaps/Tiled_Imagery_Best_Available",
 "name": "Basemaps/Tiled_Imagery_Best_Available",
 "description": "",
 "extent": {
  "xmin": 225206.80000000657,
  "ymin": 6495691.350000007,
  "xmax": 356180.2999999937,
  "ymax": 6659202.399999991,
  "spatialReference": {
   "wkid": 28356,
   "latestWkid": 28356
  }
 },
 "initialExtent": {
  "xmin": 225206.80000000657,
  "ymin": 6495691.350000007,
  "xmax": 356180.2999999937,
  "ymax": 6659202.399999991,
  "spatialReference": {
   "wkid": 28356,
   "latestWkid": 28356
  }
 },
 "fullExtent": {
  "xmin": 225206.80000000657,
  "ymin": 6495691.350000007,
  "xmax": 356180.2999999937,
  "ymax": 6659202.399999991,
  "spatialReference": {
   "wkid": 28356,
   "latestWkid": 28356
  }
 },
 "pixelSizeX": 0.04999999999999509,
 "pixelSizeY": 0.049999999999995104,
 "bandCount": 3,
 "pixelType": "U8",
 "minPixelSize": 0.06614596562526459,
 "maxPixelSize": 4233.341800016934,
 "copyrightText": "",
 "serviceDataType": "esriImageServiceDataTypeRGB",
 "minValues": [],
 "maxValues": [],
 "meanValues": [],
 "stdvValues": [],
 "objectIdField": "OBJECTID",
 "fields": [
  {
   "name": "OBJECTID",
   "type": "esriFieldTypeOID",
   "alias": "OBJECTID",
   "domain": null
  },
  {
   "name": "Shape",
   "type": "esriFieldTypeGeometry",
   "alias": "Shape",
   "domain": null
  },
  {
   "name": "Name",
   "type": "esriFieldTypeString",
   "alias": "Name",
   "domain": null,
   "length": 200
  },
  {
   "name": "MinPS",
   "type": "esriFieldTypeDouble",
   "alias": "MinPS",
   "domain": null
  },
  {
   "name": "MaxPS",
   "type": "esriFieldTypeDouble",
   "alias": "MaxPS",
   "domain": null
  },
  {
   "name": "LowPS",
   "type": "esriFieldTypeDouble",
   "alias": "LowPS",
   "domain": null
  },
  {
   "name": "HighPS",
   "type": "esriFieldTypeDouble",
   "alias": "HighPS",
   "domain": null
  },
  {
   "name": "Category",
   "type": "esriFieldTypeInteger",
   "alias": "Category",
   "domain": {
    "type": "codedValue",
    "name": "MosaicCatalogItemCategoryDomain",
    "description": "Catalog item categories.",
    "codedValues": [
     {
      "name": "Unknown",
      "code": 0
     },
     {
      "name": "Primary",
      "code": 1
     },
     {
      "name": "Overview",
      "code": 2
     },
     {
      "name": "Unprocessed Overview",
      "code": 3
     },
     {
      "name": "Partial Overview",
      "code": 4
     },
     {
      "name": "Inactive",
      "code": 5
     },
     {
      "name": "Uploaded",
      "code": 253
     },
     {
      "name": "Incomplete",
      "code": 254
     },
     {
      "name": "Custom",
      "code": 255
     }
    ],
    "mergePolicy": "esriMPTDefaultValue",
    "splitPolicy": "esriSPTDefaultValue"
   }
  },
  {
   "name": "Tag",
   "type": "esriFieldTypeString",
   "alias": "Tag",
   "domain": null,
   "length": 100
  },
  {
   "name": "GroupName",
   "type": "esriFieldTypeString",
   "alias": "GroupName",
   "domain": null,
   "length": 100
  },
  {
   "name": "ProductName",
   "type": "esriFieldTypeString",
   "alias": "ProductName",
   "domain": null,
   "length": 100
  },
  {
   "name": "CenterX",
   "type": "esriFieldTypeDouble",
   "alias": "CenterX",
   "domain": null
  },
  {
   "name": "CenterY",
   "type": "esriFieldTypeDouble",
   "alias": "CenterY",
   "domain": null
  },
  {
   "name": "ZOrder",
   "type": "esriFieldTypeInteger",
   "alias": "ZOrder",
   "domain": null
  },
  {
   "name": "Shape_Length",
   "type": "esriFieldTypeDouble",
   "alias": "Shape_Length",
   "domain": null
  },
  {
   "name": "Shape_Area",
   "type": "esriFieldTypeDouble",
   "alias": "Shape_Area",
   "domain": null
  }
 ],
 "capabilities": "Catalog,Mensuration,Image,Metadata",
 "defaultMosaicMethod": "Northwest",
 "allowedMosaicMethods": "NorthWest,Center,LockRaster,ByAttribute,Nadir,Viewpoint,Seamline,None",
 "sortField": "",
 "sortValue": null,
 "mosaicOperator": "First",
 "maxDownloadSizeLimit": 2048,
 "defaultCompressionQuality": 75,
 "defaultResamplingMethod": "Bilinear",
 "maxImageHeight": 4100,
 "maxImageWidth": 15000,
 "maxRecordCount": 1000,
 "maxDownloadImageCount": 20,
 "maxMosaicImageCount": 20,
 "singleFusedMapCache": true,
 "tileInfo": {
  "rows": 256,
  "cols": 256,
  "dpi": 96,
  "format": "JPEG",
  "compressionQuality": 75,
  "origin": {
   "x": -5120900,
   "y": 19998100
  },
  "spatialReference": {
   "wkid": 28356,
   "latestWkid": 28356
  },
  "lods": [
   {
    "level": 0,
    "resolution": 4233.341800016934,
    "scale": 1.6000000000000002E7
   },
   {
    "level": 1,
    "resolution": 2116.670900008467,
    "scale": 8000000.000000001
   },
   {
    "level": 2,
    "resolution": 1058.3354500042335,
    "scale": 4000000.0000000005
   },
   {
    "level": 3,
    "resolution": 529.1677250021168,
    "scale": 2000000.0000000002
   },
   {
    "level": 4,
    "resolution": 317.50063500127004,
    "scale": 1200000
   },
   {
    "level": 5,
    "resolution": 291.0422487511642,
    "scale": 1100000
   },
   {
    "level": 6,
    "resolution": 264.5838625010584,
    "scale": 1000000.0000000001
   },
   {
    "level": 7,
    "resolution": 238.12547625095252,
    "scale": 900000
   },
   {
    "level": 8,
    "resolution": 211.66709000084668,
    "scale": 800000
   },
   {
    "level": 9,
    "resolution": 185.20870375074085,
    "scale": 700000
   },
   {
    "level": 10,
    "resolution": 158.75031750063502,
    "scale": 600000
   },
   {
    "level": 11,
    "resolution": 132.2919312505292,
    "scale": 500000.00000000006
   },
   {
    "level": 12,
    "resolution": 66.1459656252646,
    "scale": 250000.00000000003
   },
   {
    "level": 13,
    "resolution": 33.0729828126323,
    "scale": 125000.00000000001
   },
   {
    "level": 14,
    "resolution": 16.933367200067735,
    "scale": 64000
   },
   {
    "level": 15,
    "resolution": 8.466683600033868,
    "scale": 32000
   },
   {
    "level": 16,
    "resolution": 4.233341800016934,
    "scale": 16000
   },
   {
    "level": 17,
    "resolution": 2.116670900008467,
    "scale": 8000
   },
   {
    "level": 18,
    "resolution": 1.0583354500042335,
    "scale": 4000
   },
   {
    "level": 19,
    "resolution": 0.5291677250021167,
    "scale": 2000
   },
   {
    "level": 20,
    "resolution": 0.26458386250105836,
    "scale": 1000
   },
   {
    "level": 21,
    "resolution": 0.13229193125052918,
    "scale": 500
   },
   {
    "level": 22,
    "resolution": 0.06614596562526459,
    "scale": 250
   },
   {
    "level": 23,
    "resolution": 0.033072982812632296,
    "scale": 125
   },
   {
    "level": 24,
    "resolution": 0.019843789687579376,
    "scale": 75
   },
   {
    "level": 25,
    "resolution": 0.013229193125052918,
    "scale": 50
   },
   {
    "level": 26,
    "resolution": 0.006614596562526459,
    "scale": 25
   },
   {
    "level": 27,
    "resolution": 0.0013229193125052917,
    "scale": 5
   }
  ]
 },
 "cacheType": "Map",
 "allowRasterFunction": true,
 "rasterFunctionInfos": [
  {
   "name": "None",
   "description": "A No-Op Function.",
   "help": ""
  }
 ],
 "rasterTypeInfos": [
  {
   "name": "Raster Dataset",
   "description": "Supports all ArcGIS Raster Datasets",
   "help": ""
  }
 ],
 "mensurationCapabilities": "Basic",
 "hasHistograms": false,
 "hasColormap": false,
 "hasRasterAttributeTable": false,
 "minScale": 1.6000000000000002E7,
 "maxScale": 250,
 "minLOD": 0,
 "maxLOD": 21,
 "exportTilesAllowed": false,
 "hasMultidimensions": false,
 "supportsStatistics": true,
 "supportsAdvancedQueries": true,
 "editFieldsInfo": null,
 "ownershipBasedAccessControlForRasters": null,
 "allowComputeTiePoints": false,
 "useStandardizedQueries": true,
 "advancedQueryCapabilities": {
  "useStandardizedQueries": true,
  "supportsStatistics": true,
  "supportsOrderBy": true,
  "supportsDistinct": true,
  "supportsPagination": true
 },
 "spatialReference": {
  "wkid": 28356,
  "latestWkid": 28356
 }
}
